BEGIN:VCALENDAR
VERSION:2.0
PRODID:-//wp-events-plugin.com//7.2.2.1//EN
TZID:Europe/Madrid
X-WR-TIMEZONE:Europe/Madrid
BEGIN:VEVENT
UID:424@rseapenalara.org
DTSTART;TZID=Europe/Madrid:20251004T083000
DTEND;TZID=Europe/Madrid:20251005T193000
DTSTAMP:20250903T090953Z
URL:https://www.rseapenalara.org/eventos/2a-edicion-rally-amistoso-de-la-p
 edriza/
SUMMARY:2ª Edición: Rally amistoso de La Pedriza
DESCRIPTION:\n&nbsp\;\n2ª Edición: Rally amistoso de La Pedriza\n4 y 5 de
  octubre.\n&nbsp\;\n\nAbierta a todos los socios del club\, ¡no será una
  actividad únicamente de escalada!.\n\nRememorando las antiguas pruebas d
 el corre-trepa que se realizaban en La Pedriza\, empezaremos en el parking
  de Canto Cochino. Cada cordada realizará todas las vías posibles en el 
 día sin limitar la zona o risco. Para los que no quieran escalar hay posi
 bilidad de realizar una ruta de senderismo.\n\nAl finalizar\, en el Refugi
 o Giner\, intercambiaremos las impresiones del día y disfrutaremos de una
  cena conjunta (el coste de la cena será abonado por cada asistente). Ade
 más\, para la cordada que más metros escale y para aquella que lleve la 
 indumentaria más original (no disfraz)\, habrá los siguientes regalos:\n
 \n 	Unas gafas Le Pirate.\n 	Dos láminas de @elpedriza (https://elpedriza
 .com/)\n\nAquellos que no dispongan de compañero pueden ponerse en contac
 to con el organizador para coordinarse y agruparse por cordadas.\n\nEl dom
 ingo haremos escaladas libres por La Pedriza.\n\nPunto de encuentro: Park
 ing de Canto Cochino a las 8:00h\nHora de inicio de la actividad: 8:30 h\
 nHora de fin de la actividad: 19:30h en el refugio Giner. Cena y pernocta 
 para el que quiera.\n\nPlazas: Sin límite\n\nInscripción/organización:
  Completando el formulario de inscripción una vez publicada la convocator
 ia en el boletín. Indicar si se desea pernocta y/o cena en el refugio. \
 n\nAlojamiento: Posibilidad de pernoctar en el Refugio Giner o hacer Vivac
  en los alrededores. La reserva de la pernocta deberá ser gestionada por 
 cada participante.\n\nPrecio: Actividad gratuita. El coste de la cena en e
 l refugio se comunicará más adelante\, y deberá ser abonado por cada pa
 rticipante\, al igual que la pernocta y/o servicios adicionales.\n\nFecha 
 límite de inscripción: 21/09/2025.\n\nTransporte: coches particulares.\
 n\nOrganiza: Álvaro Moreno 655461141\n\nMATERIAL OBLIGATORIO: Arnés\, c
 asco\, cesta\, cuerdas dobles\, friends\, fisureros... todo lo necesario p
 ara las vías que vaya a realizar cada cordada.\n\n&nbsp\;\n\nTIPO DE ACTI
 VIDAD: Fija y única. Todos los participantes formarán un grupo único c
 oordinado por el Organizador de la actividad\, y se comprometen a seguir s
 us instrucciones. Ante el incumplimiento de algún participante\, el Organ
 izador podrá excluirle del grupo y del apoyo de éste\, y posteriormente 
 dar conocimiento del hecho a la Sociedad. Ningún participante iniciará l
 a actividad hasta que el Organizador lo indique. Todos ellos seguirán sus
  instrucciones y no realizarán recorridos no previstos sin el permiso de 
 éste. Cualquier participante que observe alguna situación anómala o de 
 riesgo\, deberá comunicarla al Organizador. Igualmente pondrá en su cono
 cimiento el mal estado de salud o problema físico de algún miembro del g
 rupo. Por motivos de seguridad\, no podrán participar en la actividad las
  personas no inscritas y admitidas por la RSEA Peñalara como asistentes.\
 n\nEsta actividad se realiza entre participantes en igualdad\, ya que no s
 e trata de una actividad tutelada ni formativa.\n\nSEGURO DE ACCIDENTES: 
 Es obligatorio que todos los participantes tengan un seguro que cubra los 
 riesgos de esta actividad. En caso de que alguno no dispusiera de él debe
 rá contratar al realizar la inscripción\, el seguro diario de accidentes
  que ofrece la Sociedad.\n\nDECLARACIÓN RESPONSABLE: Todos los participan
 tes deberán haber cumplimentado y firmado la DECLARACIÓN RESPONSABLE DE 
 EXENCIÓN DE RESPONSABILIDADES. Si no la hubieran cumplimentado al hacer l
 a inscripción\, para poder tomar parte en la actividad\, antes de la sal
 ida\, entregarán al Organizador una copia de su declaración anual o cump
 limentarán una específica para esta actividad.  Modelo responsabilidad.
 pdf\n\nLos menores deberán ir acompañados de padres o tutores que se res
 ponsabilicen de ellos durante toda la actividad.\n\nAVISO Grupo de WhatsAp
 p: Se creará un grupo de WhatsApp formado por las personas que se hayan 
 apuntado a la actividad. En caso de no querer ser añadido al mismo\, se d
 ebe comunicar al hacer la inscripción. Este grupo tiene como finalidad me
 jorar la comunicación con los participantes\, así como facilitar el inte
 rcambio de fotos entre ellos.\n\n&nbsp\;
ATTACH;FMTTYPE=image/jpeg:https://www.rseapenalara.org/wp-content/uploads/
 2025/01/la-pedriza.jpeg
CATEGORIES:JÓVENES
END:VEVENT
BEGIN:VTIMEZONE
TZID:Europe/Madrid
X-LIC-LOCATION:Europe/Madrid
BEGIN:DAYLIGHT
DTSTART:20250330T030000
TZOFFSETFROM:+0100
TZOFFSETTO:+0200
TZNAME:CEST
END:DAYLIGHT
END:VTIMEZONE
END:VCALENDAR