BEGIN:VCALENDAR
VERSION:2.0
PRODID:-//wp-events-plugin.com//7.2.2.1//EN
TZID:Europe/Madrid
X-WR-TIMEZONE:Europe/Madrid
BEGIN:VEVENT
UID:513@rseapenalara.org
DTSTART;TZID=Europe/Madrid:20260324T093000
DTEND;TZID=Europe/Madrid:20260324T173000
DTSTAMP:20260307T133759Z
URL:https://www.rseapenalara.org/eventos/ascension-al-cerro-san-benito-1-6
 26-m/
SUMMARY:ASCENSIÓN AL CERRO SAN BENITO (1.626 m)
DESCRIPTION:\n\n&nbsp\;\nMARTES PEÑALARA\nASCENSION AL CERRO SAN BENITO (1
 .626 m.)\n(DIFICULTAD: Moderada. DESNIVEL: 536 m.)\n&nbsp\;\n\nITINERARIO:
  Ascensión al Cerro San Benito desde el pueblo de La Paradilla.\n\nCITA:
  El martes 24/03/26 a las 9:30h a la entrada del pueblo de La Paradilla\, 
 situado a la bajada del Puerto de la Cruz Verde hacia Ávila.\n\nDIFICULTA
 D: Moderada.\n\nDESNIVEL: Acumulado 536 m.\n\nINSCRIPCION: POR MEDIO DE WH
 ATSAPP AL 657 347 663. EN EL WP INSCRIPCIONES. A PARTIR DE LA PUBLICACION 
 EN LA WEB.\n\nComo es costumbre comeremos en un restaurante de menú. TODO
 S LOS QUE DESEEN COMER QUE LO INDIQUEN AL INSCRIBIRSE CON AL MENOS DOS DIA
 S DE ANTELACIÓN\, POR LO QUE SE RUEGA NO DEJAR LA INSCRIPCION PARA EL FIN
 AL.MUCHAS GRACIAS.\n\nOrganiza: Ezequiel Conde Boal.\n\nMATERIAL OBLIGATOR
 IO: Todo lo necesario personal de montaña para periodo invernal. Botas de
  montaña.\n\nMATERIAL ACONSEJADO: Bastones\,  botiquín personal\, prote
 cción solar\, gorro para el sol \, cantimplora y linterna. Agua. Ropa de 
 abrigo.\n\nAVISO: SE ACONSEJA SALIR PRONTO DE MADRID POR ATASCOS DEL TRAFI
 CO\, ADELANTAR 30 MINUTOS LA SALIDA COMPENSA.\n\nTIPO DE ACTIVIDAD: Fija y
  única\n\nTodos los participantes formarán un grupo único coordinado po
 r el Organizador de la actividad\, y se comprometen a seguir sus instrucci
 ones. Ante el incumplimiento de algún participante\, el Organizador podr
 á excluirle del grupo y del apoyo de éste\, y posteriormente dar conocim
 iento del hecho a la Sociedad Ningún participante iniciará la actividad 
 hasta que el Organizador lo indique. Todos ellos seguirán sus instruccion
 es y no realizarán recorridos no previstos sin el permiso de éste. Cualq
 uier participante que observe alguna situación anómala o de riesgo\, deb
 erá comunicarla al Organizador. Igualmente pondrá en su conocimiento el 
 mal estado de salud o problema físico de algún miembro del grupo.\n\nEst
 a actividad se realiza entre participantes en igualdad\, ya que no se trat
 a de una actividad tutelada ni formativa.\n\nSEGURO DE ACCIDENTES: Es obli
 gatorio que todos los participantes tengan un seguro que cubra los riesgos
  de esta actividad. En caso de que alguno no dispusiera de él\, deberá c
 ontratar en la Secretaría el seguro diario de accidentes que ofrece la So
 ciedad\, abonando la cantidad fijada. Se recuerda que os podéis federar e
 n montaña por Internet en la página Web de Peñalara.\n\nDECLARACIÓN RE
 SPONSABLE: Todos los participantes deberán haber cumplimentado y firmado 
 la DECLARACIÓN RESPONSABLE DE EXENCIÓN DE RESPONSABILIDADES. Si no la hu
 bieran cumplimentado al hacer la inscripción\, para poder tomar parte en 
 la actividad\, antes de la salida\, entregarán al Organizador una copia d
 e su declaración anual o cumplimentarán una específica para esta activi
 dad. Modelo responsabilidad.pdf
ATTACH;FMTTYPE=image/jpeg:https://www.rseapenalara.org/wp-content/uploads/
 2026/03/20260101_141930_2403.jpg
CATEGORIES:MARTES PEÑALARA
LOCATION:https://www.google.com/maps/place/28297+La+Paradilla,+Madrid/@40.5
 593713,-4.2444061,460m/data=!3m2!1e3!4b1!4m6!3m5!1s0xd4107f82c546001:0x56b
 bd58679766ea!8m2!3d40.559799!4d-4.2430079!16s%2Fg%2F11x9m1jwl?entry=ttu&g_
 ep=EgoyMDI2MDMwNC4xIKXMDSoASAFQAw%3D%3D
END:VEVENT
BEGIN:VTIMEZONE
TZID:Europe/Madrid
X-LIC-LOCATION:Europe/Madrid
BEGIN:STANDARD
DTSTART:20251026T020000
TZOFFSETFROM:+0200
TZOFFSETTO:+0100
TZNAME:CET
END:STANDARD
END:VTIMEZONE
END:VCALENDAR