BEGIN:VCALENDAR
VERSION:2.0
PRODID:-//wp-events-plugin.com//7.2.2.1//EN
TZID:Europe/Madrid
X-WR-TIMEZONE:Europe/Madrid
BEGIN:VEVENT
UID:425@rseapenalara.org
DTSTART;TZID=Europe/Madrid:20250925T183000
DTEND;TZID=Europe/Madrid:20250925T223000
DTSTAMP:20250902T201854Z
URL:https://www.rseapenalara.org/eventos/charla-coloquio-alpino-picoteo-jo
 venes-penalaros-por-los-alpes-y-la-cordillera-blanca/
SUMMARY:Charla-Coloquio Alpino + picoteo: Jóvenes Peñalaros por los Alpes
  y la Cordillera Blanca
DESCRIPTION:&nbsp\;\n\n\n\n&nbsp\;\nCharla-Coloquio Alpino + picoteo: Jóve
 nes Peñalaros por los Alpes y la Cordillera Blanca\nEl jueves 25 de septi
 embre tendrá lugar en la sede de Peñalara una interesante charla-coloqui
 o impartida por varios grupos de jóvenes peñalaros que nos hablarán\, e
 ntre otras\, de las actividades que han realizado este verano en Alpes y l
 a Cordillera Blanca: Escaladas en los Macizos del Mont Blanc y Monte Rosa\
 , Ecrins\, Pirineos y el intento al Alpamayo.\n\nAdemás\, al terminar\, h
 aremos una cena social\, por lo que invitamos a todos los asistentes a tr
 aer algo de picar para compartir.\n\nSerá\, además un buen momento para 
 que todos nos pongamos cara\, conozcamos nuevos compañeros de cordada y h
 ablemos de las próximas actividades que tenemos en el calendario.\n\nHora
  de quedada: 18:30.\n\nInicio de la presentación: 19:00. \n\nPicoteo: 21
 :00.
ATTACH;FMTTYPE=image/jpeg:https://www.rseapenalara.org/wp-content/uploads/
 2025/09/Alpes.jpg
CATEGORIES:ESCALADA,GTA,JÓVENES,QUEDADAS
END:VEVENT
BEGIN:VTIMEZONE
TZID:Europe/Madrid
X-LIC-LOCATION:Europe/Madrid
BEGIN:DAYLIGHT
DTSTART:20250330T030000
TZOFFSETFROM:+0100
TZOFFSETTO:+0200
TZNAME:CEST
END:DAYLIGHT
END:VTIMEZONE
END:VCALENDAR