BEGIN:VCALENDAR
VERSION:2.0
PRODID:-//wp-events-plugin.com//7.2.2.1//EN
TZID:Europe/Madrid
X-WR-TIMEZONE:Europe/Madrid
BEGIN:VEVENT
UID:510@rseapenalara.org
DTSTART;TZID=Europe/Madrid:20260318T190000
DTEND;TZID=Europe/Madrid:20260318T203000
DTSTAMP:20260310T084256Z
URL:https://www.rseapenalara.org/eventos/cine-la-liste-everything-or-nothi
 ng-2021/
SUMMARY:Cine. La Liste: Everything or Nothing (2021)
DESCRIPTION:El próximo 18 de marzo (MIÉRCOLES)\, a las 19:00 horas\, se p
 royectará en nuestra Sede Social la película de esquí extremo “La Lis
 te: Everything or Nothing” (Eric Crossland\, 2021)\, documental  muestr
 a bajadas en esquí extremo en los Alpes\, Andes y Karakorum de los esquia
 dores Jeremie Heitz y Samuel Anthamatten.\n\nVamos a despedir esta tempora
 da de esquí viendo líneas de descenso escalofriantes. La versión que se
  proyectará es en su idioma original francés/inglés  con subtítulos e
 n español. Su duración es de 1:13 horas y esperamos que disfrutéis los 
 amantes del esquí.
ATTACH;FMTTYPE=image/jpeg:https://www.rseapenalara.org/wp-content/uploads/
 2026/03/Poster-La-Liste-everything-or-nothing.jpg
CATEGORIES:Conferencias
LOCATION:Sede Social\, Calle de la Aduana 17\, Madrid\, 28013\, España
X-APPLE-STRUCTURED-LOCATION;VALUE=URI;X-ADDRESS=Calle de la Aduana 17\, Mad
 rid\, 28013\, España;X-APPLE-RADIUS=100;X-TITLE=Sede Social:geo:0,0
END:VEVENT
BEGIN:VTIMEZONE
TZID:Europe/Madrid
X-LIC-LOCATION:Europe/Madrid
BEGIN:STANDARD
DTSTART:20251026T020000
TZOFFSETFROM:+0200
TZOFFSETTO:+0100
TZNAME:CET
END:STANDARD
END:VTIMEZONE
END:VCALENDAR