BEGIN:VCALENDAR
VERSION:2.0
PRODID:-//wp-events-plugin.com//7.2.2.1//EN
TZID:Europe/Madrid
X-WR-TIMEZONE:Europe/Madrid
BEGIN:VEVENT
UID:529@rseapenalara.org
DTSTART;TZID=Europe/Madrid:20260507T183000
DTEND;TZID=Europe/Madrid:20260507T200000
DTSTAMP:20260419T203915Z
URL:https://www.rseapenalara.org/eventos/conferencia-libros-de-registro-en
 -cumbres-y-refugios/
SUMMARY:Conferencia: Libros de registro en cumbres y refugios
DESCRIPTION:El próximo jueves 7 de mayo a las 18:30h tendrá lugar en la B
 iblioteca Regional de Madrid Joaquín Leguina dentro del ciclo :" Ciclo Si
 ngulares. Colecciones de la Biblioteca Regional de Madrid" \, la conferenc
 ia: Libros de registro en cumbres y refugios en la colección de la BRM a 
 cargo de nuestro consocio Carlos Muñoz-Repiso Izaguirre. Os animamos a qu
 e asistáis.\n\nRetransmisión en directo: https://www.youtube.com/playli
 st?list=PLbulj7TW5CZag6JqTrPr1IGrqWSrj0zq6\n\n\n\n&nbsp\;\n\n&nbsp\;
ATTACH;FMTTYPE=image/jpeg:https://www.rseapenalara.org/wp-content/uploads/
 2026/04/00204177600_0009_070526.jpg
CATEGORIES:Conferencias,CULTURA
LOCATION:https://www.google.com/maps/place/C.+de+Ram%C3%ADrez+de+Prado,+3,+
 Arganzuela,+28045+Madrid/@40.3997389,-3.6932401,17z/data=!3m1!4b1!4m6!3m5!
 1s0xd42274f32b24913:0xce302f4fa035c228!8m2!3d40.3997348!4d-3.6906652!16s%2
 Fg%2F11tx6hsbsy?entry=ttu&g_ep=EgoyMDI2MDQxNS4wIKXMDSoASAFQAw%3D%3D
END:VEVENT
BEGIN:VTIMEZONE
TZID:Europe/Madrid
X-LIC-LOCATION:Europe/Madrid
BEGIN:DAYLIGHT
DTSTART:20260329T030000
TZOFFSETFROM:+0100
TZOFFSETTO:+0200
TZNAME:CEST
END:DAYLIGHT
END:VTIMEZONE
END:VCALENDAR