BEGIN:VCALENDAR
VERSION:2.0
PRODID:-//wp-events-plugin.com//7.2.2.1//EN
TZID:Europe/Madrid
X-WR-TIMEZONE:Europe/Madrid
BEGIN:VEVENT
UID:423@rseapenalara.org
DTSTART;TZID=Europe/Madrid;VALUE=DATE:20250920
DTEND;TZID=Europe/Madrid;VALUE=DATE:20250922
DTSTAMP:20250903T112222Z
URL:https://www.rseapenalara.org/eventos/escalada-en-ogono-mendietxe-museo
 a/
SUMMARY:Escalada en Ogoño + Mendietxe Museoa
DESCRIPTION:\n&nbsp\;\nEscalada en Ogoño + visita al Mendietxe Museoa \n(M
 useo de Alex Txikon).\n20 y 21 de septiembre\nOgoñora goaz! El cabo de Og
 oño es un lugar particular para la práctica de la escalada de largos. Si
 tuada junto a la reserva de la biosfera de Urdaibai\, en Bizkaia\, es un g
 ran peñón de caliza que permite escalar sobre las olas del Cantábrico c
 on vistas a la playa de Laga y a toda la costa. Las restricciones por nidi
 ficación se levantan el 15 de septiembre y vamos a aprovechar para visita
 rlo antes de que lleguen las lluvias.\n\nLa salida está pensada para volv
 ernos a juntar a la vuelta del verano y disfrutar de la escalada de largos
 . Además coincidiremos con los compañeros del Club Vasco de Camping Elka
 rtea. Hay un gran abanico de vías de diferentes niveles\, así que quien 
 esté dudando de si participar\, sea por grado o porque no tiene con quié
 n ir\, que no dude en inscribirse y preguntar por el grupo de Whatsapp par
 a poder organizar cordadas acordes a cada cual. El objetivo es que nos jun
 temos el mayor número de personas de las vocalías de escalada y jóvenes
  y disfrutemos en grupo.\n\nEl domingo\, acompañados por Alex Txikon\, ha
 remos la visita al Mendietxe Museoa.\n\nAgenda (provisional):\n\n 	Sábado
 : Escalada todo el día en el Cabo de Ogoño.\n 	Domingo: Visita al Mendie
 txe Museoa\, posible escalada según horarios.\n\nInscripciones: Completan
 do el formulario de inscripción. Se creará un grupo de whatsapp para org
 anizar la salida.\n\nFecha límite de inscripción: 16 de septiembre.\n\nP
 recio: Actividad gratuita.\n\nMaterial: Arnés\, casco\, cesta\, cuerdas d
 obles\, friends\, fisureros... todo lo necesario para la escalada clásica
 . Algunas vías están equipadas\, pero para otras son necesarios friends 
 y fisureros\, así que leed bien los croquis!\n\nOrganiza: Eneko Lekuona\,
  GTA 2023-2024.\n\nHora y Punto de Encuentro: La idea sería salir el vier
 nes para poder estar escalando el sábado por la mañana y encontrarnos en
  la playa de Laga al bajar.\n\nTipo de Actividad: Libre.\n\nTransporte: E
 n vehículos particulares.\n\nPrecio: Gratuito.\n\n&nbsp\;\n\n&nbsp\;\n\nT
 IPO DE ACTIVIDAD: Fija y única. Todos los participantes formarán un gru
 po único coordinado por el Organizador de la actividad\, y se comprometen
  a seguir sus instrucciones. Ante el incumplimiento de algún participante
 \, el Organizador podrá excluirle del grupo y del apoyo de éste\, y post
 eriormente dar conocimiento del hecho a la Sociedad. Ningún participante 
 iniciará la actividad hasta que el Organizador lo indique. Todos ellos se
 guirán sus instrucciones y no realizarán recorridos no previstos sin el 
 permiso de éste. Cualquier participante que observe alguna situación an
 ómala o de riesgo\, deberá comunicarla al Organizador. Igualmente pondr
 á en su conocimiento el mal estado de salud o problema físico de algún 
 miembro del grupo. Por motivos de seguridad\, no podrán participar en la 
 actividad las personas no inscritas y admitidas por la RSEA Peñalara como
  asistentes.\n\nEsta actividad se realiza entre participantes en igualdad\
 , ya que no se trata de una actividad tutelada ni formativa.\n\nSEGURO DE 
 ACCIDENTES: Es obligatorio que todos los participantes tengan un seguro q
 ue cubra los riesgos de esta actividad. En caso de que alguno no dispusier
 a de él deberá contratar al realizar la inscripción\, el seguro diario 
 de accidentes que ofrece la Sociedad.\n\nDECLARACIÓN RESPONSABLE: Todos l
 os participantes deberán haber cumplimentado y firmado la DECLARACIÓN RE
 SPONSABLE DE EXENCIÓN DE RESPONSABILIDADES. Si no la hubieran cumplimenta
 do al hacer la inscripción\, para poder tomar parte en la actividad\, an
 tes de la salida\, entregarán al Organizador una copia de su declaración
  anual o cumplimentarán una específica para esta actividad.  Modelo res
 ponsabilidad.pdf\n\nLos menores deberán ir acompañados de padres o tutor
 es que se responsabilicen de ellos durante toda la actividad.\n\nAVISO Gru
 po de WhatsApp: Se creará un grupo de WhatsApp formado por las personas 
 que se hayan apuntado a la actividad. En caso de no querer ser añadido al
  mismo\, se debe comunicar al hacer la inscripción. Este grupo tiene como
  finalidad mejorar la comunicación con los participantes\, así como faci
 litar el intercambio de fotos entre ellos.\n\n&nbsp\;
ATTACH;FMTTYPE=image/jpeg:https://www.rseapenalara.org/wp-content/uploads/
 2025/09/Ogono.jpg
CATEGORIES:ESCALADA,GTA,JÓVENES
END:VEVENT
BEGIN:VTIMEZONE
TZID:Europe/Madrid
X-LIC-LOCATION:Europe/Madrid
BEGIN:DAYLIGHT
DTSTART:20250330T030000
TZOFFSETFROM:+0100
TZOFFSETTO:+0200
TZNAME:CEST
END:DAYLIGHT
END:VTIMEZONE
END:VCALENDAR