BEGIN:VCALENDAR
VERSION:2.0
PRODID:-//wp-events-plugin.com//7.2.2.1//EN
TZID:Europe/Madrid
X-WR-TIMEZONE:Europe/Madrid
BEGIN:VEVENT
UID:527@rseapenalara.org
DTSTART;TZID=Europe/Madrid:20260508T000000
DTEND;TZID=Europe/Madrid:20260510T000000
DTSTAMP:20260419T210740Z
URL:https://www.rseapenalara.org/eventos/excursionismo-salida-a-la-sierra-
 de-bejar-salamanca/
SUMMARY:Excursionismo: Salida a la Sierra de Béjar (Salamanca).
DESCRIPTION:\nSalida  a la Sierra de Béjar (Salamanca).\n8 al 10 de mayo 
 de 2026.\nDIFICULTAD (ver MIDE)\n&nbsp\;\n\nDESCRIPCIÓN DE LAS RUTAS:\n\n
 SÁBADO 09/05: La ruta comienza en el aparcamiento de El Travieso (Candela
 rio\, 1860 m) y en lugar de remontar directamente hacia la cuerda del Calv
 itero\, subiremos de manera progresiva por la ladera oeste de dicha cuerda
  hasta la zona del Canchal de la Ceja (2435 m). Seguiremos dirección SW p
 or dicho cordal hasta llegar al denominado Paso del Diablo\, paso acondici
 onado con unas clavijas y una cadena. Aquí se podrá optar\, de forma vol
 untaria y si el nevero que aquí se forma lo permite\, descender por ellas
  y acceder a la cumbre del Torreón (2386 m)\, distante varios cientos de 
 metros. El resto del grupo puede esperar para luego iniciar el regreso\, p
 asando por el Calvitero (2397 m). Tras la última cumbre\, comienza un int
 enso descenso hasta el aparcamiento.\n\nDESNIVEL Y DIFICULTAD:  Se trata 
 de una ruta circular de algo más de 13 km con unos desniveles positivo y 
 negativo de 840 m y la dificultad fuera de programa de tener que superar u
 nas rocas ayudados por una cadena.\n\nDOMINGO 10/05: Nos acercaremos con l
 os coches hasta la Plaza del Arenal\, en el centro de Baños de Montemayor
  (620 m). La ruta comienza atravesando esta población para tomar el denom
 inado Camino de los Arrieros\, vieja calzada medieval conservada en muy bu
 en estado\, que en paralelo a la carretera nos lleva hasta la población d
 e La Garganta (1100 m). Tras atravesarla\, y tras recorrer varias formacio
 nes boscosas por viejos callejones\, nos acercaremos a la población de Pu
 erto de Béjar (940 m). Sin entrar en ella\, seguiremos nuestro descenso e
 n dirección suroeste hasta llegar a la Vía Verde de La Plata. Al poco ti
 empo\, la dejaremos para continuar por la Calzada Romana. Ya sólo nos res
 ta seguirla para retornar a nuestro punto de partida.\n\nDESNIVEL Y DIFICU
 LTAD: Ruta prácticamente circular de unos 12\,5 km y con unos desniveles 
 positivo y negativo de 585 m\, sin ninguna dificultad reseñable\, excepto
  posibles zonas encharcadas.\n\nPlazas: 20 (para personas socias y no soci
 as que no hayan participado en más de 3 salidas del club).\n\nAlojamiento
 : Albergue “El Vagón” - Ctra. de Salamanca 92 - Béjar (Salamanca)\,\
 n\nTransporte: por cuenta de los asistentes.\n\nPrecio: Socios: 93€. No
  socios: 112€.\n\nIncluye: Alojamiento en habitaciones compartidas\, con
  camas-literas individuales\, en régimen de media pensión.\n\n 	Cena del
  Viernes y Pernocta\n 	Desayuno\, Cena y Pernocta del Sábado\n 	Desayuno 
 del Domingo\n\nMATERIAL OBLIGATORIO: El normal para esta actividad de send
 erismo en época Primavera. Botas de senderismo\, gorra y chubasquero\, ch
 aqueta de abrigo\, crema solar. Comida de marcha y agua para la ruta\, rec
 omendables bastones\, etc.\n\nHay que llevar toalla.\n\nINSCRIPCIÓN Y PAG
 O: Pinchando en el BOTÓN RESERVAR.  Se habilitará la inscripción una v
 ez salga publicada esta convocatoria en el boletín informativo quincenal\
 , hasta el 30/04/2026  o cuando se completen las plazas.  \n\n[reservar
 ]\n\nNota: Si el botón de reserva no está habilitado puede ser porque:\n
 \n“Las plazas se pondrán próximamente a disposición del público”: 
 La actividad aún no ha sido publicada en el boletín informativo quincena
 l de socios y por tanto el periodo de reserva aún no se ha abierto.\n\n
 “Plazas agotadas hasta revisión de pagos”: Las plazas ofrecidas han s
 ido cubiertas\, puede haber duplicidades o errores de pago. Mientras reali
 zamos las comprobaciones oportunas\, te recomendamos apuntarte en lista de
  espera en el siguiente enlace: apuntarme a la Lista de Espera.\n\n“Rese
 rva fuera de plazo”: Ha finalizado el periodo de inscripción para dicha
  actividad\, contacta con la oficina para consultar si hay alguna plaza li
 bre.\n\nOrganizan: Pepe Ynat y Arantxa Barragán.\n\nContacto en: excursio
 nismo@rseapenalara.org\n\nTRACK: se intentará facilitar con antelación a
  todos los participantes.\n\n&nbsp\;\n\nTIPO DE ACTIVIDAD: Fija y única\n
 \nTodos los participantes formarán un grupo único coordinado por el Orga
 nizador de la actividad\, y se comprometen a seguir sus instrucciones. Ant
 e el incumplimiento de algún participante\, el Organizador podrá excluir
 le del grupo y del apoyo de éste\, y posteriormente dar conocimiento del 
 hecho a la Sociedad Ningún participante iniciará la actividad hasta que 
 el Organizador lo indique. Todos ellos seguirán sus instrucciones y no re
 alizarán recorridos no previstos sin el permiso de éste. Cualquier parti
 cipante que observe alguna situación anómala o de riesgo\, deberá comun
 icarla al Organizador. Igualmente pondrá en su conocimiento el mal estado
  de salud o problema físico de algún miembro del grupo. Por motivos de s
 eguridad\, no podrán participar en la actividad las personas no inscritas
  y admitidas por la RSEA Peñalara como asistentes.\n\nEsta actividad se r
 ealiza entre participantes en igualdad\, ya que no se trata de una activid
 ad tutelada ni formativa.\n\nSEGURO DE ACCIDENTES: Es obligatorio que tod
 os los participantes tengan un seguro que cubra los riesgos de esta activi
 dad. En caso de que alguno no dispusiera de él deberá contratar al reali
 zar la inscripción\, el seguro diario de accidentes que ofrece la Socieda
 d.\n\nDECLARACIÓN RESPONSABLE: Todos los participantes deberán haber cum
 plimentado y firmado la DECLARACIÓN RESPONSABLE DE EXENCIÓN DE RESPONSAB
 ILIDADES. Si no la hubieran cumplimentado al hacer la inscripción\, para 
 poder tomar parte en la actividad\, antes de la salida\, entregarán al O
 rganizador una copia de su declaración anual o cumplimentarán una espec
 ífica para esta actividad.  Modelo responsabilidad.pdf\n\nLos menores de
 berán ir acompañados de padres o tutores que se responsabilicen de ellos
  durante toda la actividad.\n\n APLAZAMIENTOS\, SUSPENSIONES Y DEVOLUCION
 ES: \n\nEn caso de no participación en la actividad\, siempre que se hay
 a comunicado esta circunstancia con antelación\, se devolverá el importe
  abonado\, descontando los gastos que se hubieran originado y el 5% de gas
 tos de gestión.\n\nSi se produjera una suspensión de la actividad\, esta
  tendrá su efecto siempre que no se haya hecho uso de alguno de los servi
 cios ofrecidos en la convocatoria. En este caso se devolverá a los inscri
 tos el importe abonado\, descontando los gastos que se hubieran originado.
 \n\nEn caso de aplazamiento\, se mantendrán los pagos e inscripciones de 
 los que así lo manifiesten para la futura celebración. A los inscritos q
 ue no quisieran mantener la inscripción se les devolverá el importe de l
 a inscripción descontando los gastos que se hubieran originado. \n\nTodas
  las devoluciones se realizarán entre los 15 y 30 días posteriores a la 
 fecha prevista de celebración.\n\nAVISO Grupo de WhatsApp: Se creará un
  grupo de WhatsApp formado por las personas que se hayan apuntado a la exc
 ursión. En caso de no querer ser añadido al mismo\, se debe comunicar al
  hacer la inscripción. Este grupo tiene como finalidad mejorar la comunic
 ación con los participantes\, así como facilitar el intercambio de fotos
  entre ellos.\n\nDetalles generales MIDE:\n\n&nbsp\;
ATTACH;FMTTYPE=image/jpeg:https://www.rseapenalara.org/wp-content/uploads/
 2026/04/Imagen2.png
CATEGORIES:EXCURSIONISMO
LOCATION:https://elvagonbejar.com/
END:VEVENT
BEGIN:VTIMEZONE
TZID:Europe/Madrid
X-LIC-LOCATION:Europe/Madrid
BEGIN:DAYLIGHT
DTSTART:20260329T030000
TZOFFSETFROM:+0100
TZOFFSETTO:+0200
TZNAME:CEST
END:DAYLIGHT
END:VTIMEZONE
END:VCALENDAR