BEGIN:VCALENDAR
VERSION:2.0
PRODID:-//wp-events-plugin.com//7.2.2.1//EN
TZID:Europe/Madrid
X-WR-TIMEZONE:Europe/Madrid
BEGIN:VEVENT
UID:528@rseapenalara.org
DTSTART;TZID=Europe/Madrid:20260514T000000
DTEND;TZID=Europe/Madrid:20260517T000000
DTSTAMP:20260419T205921Z
URL:https://www.rseapenalara.org/eventos/final-de-temporada-de-esqui-de-mo
 ntana-en-sierra-nevada/
SUMMARY:FINAL DE TEMPORADA de ESQUÍ de MONTAÑA EN SIERRA NEVADA
DESCRIPTION:\n\n&nbsp\;\nFINAL DE TEMPORADA EN SIERRA NEVADA\n(14-17 de May
 o 2026)\n(Dificultad: Baja \, Desnivel: 600-900 m)\n&nbsp\;\n\n\n\n&nbsp\;
 \n\n&nbsp\;\n\nAlguna actividad tiene que ser la última...y gracias a la 
 generosa cantidad de nieve caída esta primavera\, la última llega muy ta
 rde !\n\nEste año Sierra Nevada tiene mucha nieve acumulada -la estación
  de esquí estará abierta hasta el puente del Primero de Mayo- y nos ofre
 ce sus picos principales con todavía largos descensos. Es una opción muy
  apetecible\, ya que la posibilidad de buen tiempo suele ser lo habitual.\
 n\nAsí que despediremos la temporada subiendo al Veleta y a los picos que
  se nos pongan a tiro. Como todos los años\, la cena de clausura de la te
 mporada -el sábado- será ocasión para recordar los buenos momentos vivi
 dos y hacer planes para la próxima temporada. No deberíais perderos esta
  celebración !!!\n\n&nbsp\;\n\n\n\n&nbsp\;\n\nFECHAS.- Desde el jueves 14
  al domingo 17 de Mayo.\n\nNÚMERO DE PLAZAS.- 30 plazas\, ampliables si f
 uese necesario...\n\nLUGAR DE ENCUENTRO.- Albergue Universitario\, Estaci
 ón de esquí alpino de Sierra Nevada\, a unos 2.500 m de altitud\, Granad
 a.\n\nLUGAR DE INICIO DE LA ACTIVIDAD.- Borreguiles\, 2.700 m\, estación 
 de esquí de Sierra Nevada.\n\nITINERARIOS Y DESNIVEL.- Viernes 15\, ascen
 sión al Veleta (3.399 m) desde Borreguiles\, 900 m de desnivel. Sábado 1
 6\, ascensión al Pico Elorrieta (3.187 m) desde Borreguiles\, 900 m de de
 snivel. Domingo 17\, Ruta de los Observatorios astronómicos\, 600 m. de d
 esnivel.\n\nDIFICULTAD.- Aunque los recorridos tienen un desnivel y longit
 ud considerable\, las ascensiones tienen baja dificultad\, al realizarse p
 rincipalmente aprovechando las pistas de la estación de esquí. No hay im
 portantes riesgos objetivos\, y el itinerario puede seguirse sin dificulta
 d\, existiendo numerosos puntos para reagruparse cuando sea necesario.\n\n
 ALOJAMIENTO.- Albergue Universitario Gerardo Alonso\, zona alta de la esta
 ción de esquí de Sierra Nevada\, bajo los Peñones de San Francisco\, a 
 unos 2.500 m de altitud. El albergue cuenta con una situación excepcional
 \, se pueden iniciar las ascensiones desde el mismo\, aunque habrá sin du
 da porteos hasta Borreguiles\, de una media hora y 200 m. de desnivel. El 
 albergue cuenta con habitaciones de 2\, 4\, 6 y 9 plazas \; los servicios 
 son comunes. Hay terrazas exteriores con vistas al Veleta\, y salón con c
 himenea. Aparcamiento gratuito en la puerta del albergue.\n\nDESPLAZAMIENT
 O.- En vehículos particulares.\n\nINSCRIPCIÓN.-  Pinchando en el BOTÓN
  RESERVAR cuando esté disponible.  Se habilitará la inscripción una ve
 z salga publicada esta convocatoria en el boletín informativo quincenal\,
  hasta las 23\,59 horas del jueves 30 de abril o cuando se completen las p
 lazas.  \n\n[reservar]\nNota: Si el botón de reserva no está habilitad
 o puede ser porque:\n“Las plazas se pondrán próximamente a disposició
 n del público”: La actividad aún no ha sido publicada en el boletín i
 nformativo quincenal de socios y por tanto el periodo de reserva aún no s
 e ha abierto.\n“Plazas agotadas hasta revisión de pagos”: Las plazas 
 ofrecidas han sido cubiertas\, puede haber duplicidades o errores de pago.
  Mientras realizamos las comprobaciones oportunas\, te recomendamos apunta
 rte en lista de espera en el siguiente enlace: apuntarme a la Lista de Esp
 era.\n“Reserva fuera de plazo”: Ha finalizado el periodo de inscripci
 ón para dicha actividad\, contacta con la oficina para consultar si hay a
 lguna plaza libre.\n\nPRECIO DE LA ACTIVIDAD.- 190 euros para socios y 230
  no socios.\n\nCANTIDAD DE RESERVA EN LA INSCRIPCIÓN.- Pago completo ( se
 gún corresponda). Hay posibilidad de cancelar la actividad hasta 10 días
  antes del inicio de la misma (domingo 3 de mayo) si las condiciones de la
  nieve hacen imposible hacer los recorridos previstos con esquís de trave
 sía. Si se cancela más tarde\, el Albergue penaliza la cancelación con 
 un 5 %.\n\nQUÉ INCLUYE EL PRECIO.- TRES noches de alojamiento en habitaci
 ón de 2/4/6/9 plazas\, en régimen de media pensión\, desde la cena del 
 jueves hasta el desayuno del domingo.\n\nQUÉ NO INCLUYE EL PRECIO.- Todo 
 lo demás...\n\nMATERIAL OBLIGATORIO / RECOMENDADO.- El habitual en activi
 dades de esquí de montaña\, crampones y piolet. Y también será necesar
 io el material de seguridad : DVA\, pala y sonda. Recomendable protección
  solar factor 50 como mínimo\, y gorra o sombrero para el sol.\n\nNIVEL F
 ÍSICO / TÉCNICO EXIGIDO.- Nivel medio\, tanto físico como técnico.\n\n
 ORGANIZADOR.- Jesús Corrales\, 620.503.726\n\nGuía para la reserva on-li
 ne. \n\n 	Cuando se abra la convocatoria encontrarás un botón para “Re
 servar” de color azul. Pincha en dicho botón\, selecciona el número de
  participantes con sus respectivas opciones y añade tu selección al carr
 ito.\n 	Continua con tu reserva pinchando en ver carrito.\n 	Confirma que
  las plazas seleccionas y el coste son correctos y Finaliza Compra. \n 	A
 ñade tus datos de reserva y los datos de todos los participantes. Recuerd
 a chequear la política de cancelación y devoluciones y asegúrate que ta
 nto tu como el resto de los participantes nos hagan llegar el documento de
  Declaración de Exención de Responsabilidad y marca con un check tu comp
 romiso de recordárselo.\n 	Por último\, acepta los términos y Finaliza 
 el Pedido para continuar con el pago.\n 	El siguiente paso es introducir l
 os datos de la tarjeta bancaria en la pasarela de pago de Redsys.\n 	Apare
 cerá la confirmación de pago en la pantalla de Redsys.\n 	Automáticamen
 te recibirás un mail confirmando tu plaza.\n\nCualquier duda\, recuerda q
 ue puedes resolverla llamando a secretaría en el horario de atención al 
 socio de lunes a viernes de 10:00 a 14:00 y por las tardes lunes\, martes 
 y miércoles de 15:00 a 19:00 y los jueves de 17:00 a 20:00.\n\nTIPO DE AC
 TIVIDAD: Fija y única\n\nTodos los participantes formarán un grupo únic
 o coordinado por el Organizador de la actividad\, y se comprometen a segui
 r sus instrucciones. Ante el incumplimiento de algún participante\, el Or
 ganizador podrá excluirle del grupo y del apoyo de éste\, y posteriormen
 te dar conocimiento del hecho a la Sociedad Ningún participante iniciará
  la actividad hasta que el Organizador lo indique. Todos ellos seguirán s
 us instrucciones y no realizarán recorridos no previstos sin el permiso d
 e éste. Cualquier participante que observe alguna situación anómala o d
 e riesgo\, deberá comunicarla al Organizador. Igualmente pondrá en su co
 nocimiento el mal estado de salud o problema físico de algún miembro del
  grupo. Por motivos de seguridad\, no podrán participar en la actividad l
 as personas no inscritas y admitidas por la RSEA Peñalara como asistentes
 .\n\nEsta actividad se realiza entre participantes en igualdad\, ya que no
  se trata de una actividad tutelada ni formativa.\n\nSEGURO DE ACCIDENTES:
  Es obligatorio que todos los participantes tengan un seguro que cubra lo
 s riesgos de esta actividad. En caso de que alguno no dispusiera de él de
 berá contratar al realizar la inscripción\, el seguro diario de accident
 es que ofrece la Sociedad.\n\nDECLARACIÓN RESPONSABLE: Todos los particip
 antes deberán haber cumplimentado y firmado la DECLARACIÓN RESPONSABLE D
 E EXENCIÓN DE RESPONSABILIDADES. Si no la hubieran cumplimentado al hacer
  la inscripción\, para poder tomar parte en la actividad\, antes de la s
 alida\, entregarán al Organizador una copia de su declaración anual o cu
 mplimentarán una específica para esta actividad.  Modelo responsabilida
 d.pdf\n\nLos menores deberán ir acompañados de padres o tutores que se r
 esponsabilicen de ellos durante toda la actividad.\n\n APLAZAMIENTOS\, SU
 SPENSIONES Y DEVOLUCIONES: \n\nEn caso de no participación en la activid
 ad\, siempre que se haya comunicado esta circunstancia con antelación\, s
 e devolverá el importe abonado\, descontando los gastos que se hubieran o
 riginado y el 5% de gastos de gestión.\n\nSi se produjera una suspensión
  de la actividad\, esta tendrá su efecto siempre que no se haya hecho uso
  de alguno de los servicios ofrecidos en la convocatoria. En este caso se 
 devolverá a los inscritos el importe abonado\, descontando los gastos que
  se hubieran originado.\n\nEn caso de aplazamiento\, se mantendrán los pa
 gos e inscripciones de los que así lo manifiesten para la futura celebrac
 ión. A los inscritos que no quisieran mantener la inscripción se les dev
 olverá el importe de la inscripción descontando los gastos que se hubier
 an originado. \n\nTodas las devoluciones se realizarán entre los 15 y 30 
 días posteriores a la fecha prevista de celebración.\n\nAVISO Grupo de W
 hatsApp: Se creará un grupo de WhatsApp formado por las personas que se 
 hayan apuntado a la excursión. En caso de no querer ser añadido al mismo
 \, se debe comunicar al hacer la inscripción. Este grupo tiene como final
 idad mejorar la comunicación con los participantes\, así como facilitar 
 el intercambio de fotos entre ellos.
ATTACH;FMTTYPE=image/jpeg:https://www.rseapenalara.org/wp-content/uploads/
 2025/04/IMG_20250206_103403-2.jpg
CATEGORIES:ESQUI DE MONTAÑA
LOCATION:https://www.google.com/maps/place/Albergue+Universitario+Gerardo+A
 lonso+-+Sierra+Nevada/@37.0955651,-3.3895309,966m/data=!3m1!1e3!4m9!3m8!1s
 0xd71dd230904466b:0x5c2fd705bd88a86!5m2!4m1!1i2!8m2!3d37.0955608!4d-3.3869
 56!16s%2Fg%2F11xbb8c2h?entry=ttu&g_ep=EgoyMDI2MDQxNS4wIKXMDSoASAFQAw%3D%3D
END:VEVENT
BEGIN:VTIMEZONE
TZID:Europe/Madrid
X-LIC-LOCATION:Europe/Madrid
BEGIN:DAYLIGHT
DTSTART:20260329T030000
TZOFFSETFROM:+0100
TZOFFSETTO:+0200
TZNAME:CEST
END:DAYLIGHT
END:VTIMEZONE
END:VCALENDAR