BEGIN:VCALENDAR
VERSION:2.0
PRODID:-//wp-events-plugin.com//7.2.2.1//EN
TZID:Europe/Madrid
X-WR-TIMEZONE:Europe/Madrid
BEGIN:VEVENT
UID:512@rseapenalara.org
DTSTART;TZID=Europe/Madrid:20260315T093000
DTEND;TZID=Europe/Madrid:20260315T133000
DTSTAMP:20260311T093909Z
URL:https://www.rseapenalara.org/eventos/infantil-alto-del-leon-cabeza-lij
 ar/
SUMMARY:Infantil: Alto del León - Cabeza Líjar
DESCRIPTION:\nDomingo 15 de marzo 2026\n&nbsp\;\n\nITINERARIO: \nOs propon
 emos una ruta circular desde el Alto del León hasta Cabeza Líjar. Es una
  excursión ideal para disfrutar de la montaña en familia. Comenzaremos c
 aminando entre pinares por senderos y pistas sencillas\, en un entorno muy
  bonito de la Sierra de Guadarrama. A lo largo del recorrido iremos ganand
 o altura poco a poco mientras disfrutamos del paisaje y del aire de la sie
 rra\, avanzando entre pinares y con bonitas vistas del entorno.\nUno de lo
 s momentos más especiales de la excursión será la llegada a la cima de 
 Cabeza Líjar\, a más de 1.800 metros de altitud. Allí encontraremos un 
 antiguo búnker de la Guerra Civil que hoy sirve como mirador y refugio\, 
 desde el que podremos contemplar unas vistas espectaculares de la Sierra d
 e Guadarrama y de las dos mesetas. En días despejados se distinguen mucha
 s de las cumbres cercanas y amplios paisajes que harán que merezca la pen
 a el esfuerzo de la subida.\nLa vuelta la realizaremos por una senda cómo
 da que nos llevará de nuevo al punto de inicio\, pasando por collados y p
 istas forestales donde podremos seguir disfrutando del entorno. Será una 
 jornada perfecta para descubrir la montaña\, aprender un poco de su histo
 ria y compartir un día de naturaleza\, juegos y aventura con el grupo inf
 antil del club.\nDESNIVEL Y DIFICULTADES: distancia total 10 km\, desnivel
  350 m. Dificultad baja.\n\nDuración aproximada: 4 horas con parada\n\nMI
 DE\n\n\n\n&nbsp\;\n\n\n\nNota: Las rutas pueden sufrir cambios en función
  de las circunstancias.\n\nPlazas: sin limitación. Abierta a socios infan
 tiles e infantiles no socios que no hayan participado en más de tres sali
 das.\n\nLugar de comienzo: Alto del León\n\nHora y Lugar: 9:30 h\, Aparca
 miento Alto del León\nhttps://maps.app.goo.gl/h6tKT1foT55Hah189\nInscripc
 ión: Completando el formulario hasta el jueves 12 de marzo.\n\nPrecio: Gr
 atuito.\n\nMATERIAL OBLIGATORIO: \n\n\n\n\nPUESTO\nMOCHILA\nEQUIPAJE\nOBS
 \n\n\nCamiseta térmica\nX\n-\n-\n-\n\n\nForro polar o equivalente\nX\n-\n
 -\n-\n\n\nPantalón de senderismo\nX\n-\n-\n-\n\n\nZapatilla senderismo\nX
 \n-\n-\n-\n\n\nTraje de lluvia\n-\nX\n-\n-\n\n\nGorro\n-\nX\n-\n-\n\n\nGua
 ntes\n-\nX\n-\n-\n\n\nGafas de sol\n-\nX\n-\n-\n\n\nCantimplora\n-\nX (1\,
 5l)\n-\n-\n\n\nCubiertos\n-\nX\n-\n-\n\n\nRopa de repuesto\n-\n-\nX\n-\n\n
 \nBotiquín individual\n-\nX\n-\n-\n\n\nComida\n-\nX\n-\n-\n\n\nCrema de s
 ol\n-\nX\n-\n-\n\n\nProtector labial\n-\nX\n-\n-\n\n\nCartografía\n-\n-\n
 -\nOpcional\n\n\nBrújula\n-\n-\n-\nOpcional\n\n\nPrismáticos\n-\n-\n-\nO
 pcional\n\n\nGPS\n-\n-\n-\nOpcional\n\n\nDocumentación personal\n-\nX\n-\
 n-\n\n\nTarjeta federado\n-\nX\n-\n-\n\n\n\n&nbsp\;\n\nOrganiza: Ricardo L
 enoir-Grand Pons\, Tel\; 600373431\, Mail: infantiles@rseapenalara.org\n\n
 &nbsp\;\n\nTIPO DE ACTIVIDAD: Fija y única. Todos los participantes form
 arán un grupo único coordinado por el Organizador de la actividad\, y se
  comprometen a seguir sus instrucciones. Ante el incumplimiento de algún 
 participante\, el Organizador podrá excluirle del grupo y del apoyo de é
 ste\, y posteriormente dar conocimiento del hecho a la Sociedad. Ningún p
 articipante iniciará la actividad hasta que el Organizador lo indique. To
 dos ellos seguirán sus instrucciones y no realizarán recorridos no previ
 stos sin el permiso de éste. Cualquier participante que observe alguna si
 tuación anómala o de riesgo\, deberá comunicarla al Organizador. Igualm
 ente pondrá en su conocimiento el mal estado de salud o problema físico 
 de algún miembro del grupo. Por motivos de seguridad\, no podrán partici
 par en la actividad las personas no inscritas y admitidas por la RSEA Peñ
 alara como asistentes.\n\nEsta actividad se realiza entre participantes en
  igualdad\, ya que no se trata de una actividad tutelada ni formativa.\n\n
 SEGURO DE ACCIDENTES: Es obligatorio que todos los participantes tengan u
 n seguro que cubra los riesgos de esta actividad. En caso de que alguno no
  dispusiera de él deberá contratar al realizar la inscripción\, el segu
 ro diario de accidentes que ofrece la Sociedad.\n\nDECLARACIÓN RESPONSABL
 E: Todos los participantes deberán haber cumplimentado y firmado la DECLA
 RACIÓN RESPONSABLE DE EXENCIÓN DE RESPONSABILIDADES. Si no la hubieran c
 umplimentado al hacer la inscripción\, para poder tomar parte en la activ
 idad\, antes de la salida\, entregarán al Organizador una copia de su de
 claración anual o cumplimentarán una específica para esta actividad:\nD
 ocumento Exención Responsabilidad Adultos\;\nDocumento Exención Responsa
 bilidad menores\;\nAutorización imágenes menores \nLos menores deberán
  ir acompañados de padres o tutores que se responsabilicen de ellos duran
 te toda la actividad.\n\nAVISO Grupo de WhatsApp: Se creará un grupo de 
 WhatsApp formado por las personas que se hayan apuntado a la actividad. En
  caso de no querer ser añadido al mismo\, se debe comunicar al hacer la i
 nscripción. Este grupo tiene como finalidad mejorar la comunicación con 
 los participantes\, así como facilitar el intercambio de fotos entre ello
 s.
ATTACH;FMTTYPE=image/jpeg:https://www.rseapenalara.org/wp-content/uploads/
 2026/03/CabezaLijar.jpg
CATEGORIES:INFANTIL
END:VEVENT
BEGIN:VTIMEZONE
TZID:Europe/Madrid
X-LIC-LOCATION:Europe/Madrid
BEGIN:STANDARD
DTSTART:20251026T020000
TZOFFSETFROM:+0200
TZOFFSETTO:+0100
TZNAME:CET
END:STANDARD
END:VTIMEZONE
END:VCALENDAR