BEGIN:VCALENDAR
VERSION:2.0
PRODID:-//wp-events-plugin.com//7.2.2.1//EN
TZID:Europe/Madrid
X-WR-TIMEZONE:Europe/Madrid
BEGIN:VEVENT
UID:437@rseapenalara.org
DTSTART;TZID=Europe/Madrid:20251019T100000
DTEND;TZID=Europe/Madrid:20251019T170000
DTSTAMP:20251013T113950Z
URL:https://www.rseapenalara.org/eventos/infantil-montana-segoviana-azud-d
 el-acueducto-de-segovia/
SUMMARY:Infantil: Montaña Segoviana. Azud del Acueducto de Segovia.
DESCRIPTION:\nAzud del Acueducto de Segovia\nDomingo 19 de octubre 2025\nIT
 INERARIO: \n\nEl punto de encuentro es este:\n\n\n\nDesde ahí saldremos 
 por el camino del embalse hasta llegar a la cabecera de la presa\, donde c
 ruzaremos a la otra orilla.\n\n\n\nDesde ahí bordeando el embalse llegare
 mos a la cola\n\n\n\nDónde atravesaremos el Arroyo de la Acebeda.\n\n\n\n
 De ahí\, tras cruzar la Cañada Real Soriana Occidental\, nos dirigiremos
  al azud.\n\n\n\nLa vuelta la realizaremos por la otra orilla del embalse.
 \n\nComeremos en alguna de las praderas que tenemos en el recorrido.\n\nEl
  recorrido aproximado de la excursión:\n\n\n\nDESNIVEL Y DIFICULTADES: di
 stancia total 10 Km\, desnivel 296 m. Dificultad baja.\n\nDuración aproxi
 mada: 6 horas ( con parada para comer)\n\nMIDE\n\n&nbsp\;\n\n\n\nNota: La
 s rutas pueden sufrir cambios en función de las circunstancias.\n\nPlazas
 : sin limitación. Abierta a socios infantiles e infantiles no socios que 
 no hayan participado en más de tres salidas.\n\nLugar de comienzo: Reveng
 a (Segovia)\n\nHora y Lugar: 10:00h\, calzada de servicio cerca del desví
 o al embalse de Puente Alta\nhttps://maps.app.goo.gl/dRmus6sGJhRRcsjL6\nIn
 scripción: Completando el formulario hasta el jueves 16 de octubre.\n\nPr
 ecio: Gratuito.\n\nMATERIAL OBLIGATORIO: \n\n\n\n\nPUESTO\nMOCHILA\nEQUIP
 AJE\nOBS\n\n\nCamiseta manga corta\nX\n-\n-\n-\n\n\nForro polar o equivale
 nte\nX\n-\n-\n-\n\n\nPantalón de senderismo\nX\n-\n-\n-\n\n\nZapatilla se
 nderismo\nX\n-\n-\n-\n\n\nTraje de lluvia\n-\nX\n-\n-\n\n\nGorra\n-\nX\n-\
 n-\n\n\nGafas de sol\n-\nX\n-\n-\n\n\nCantimplora\n-\nX (1\,5l)\n-\n-\n\n\
 nCubiertos\n-\nX\n-\n-\n\n\nRopa de repuesto\n-\n-\nX\n-\n\n\nBotiquín in
 dividual\n-\nX\n-\n-\n\n\nComida\n-\nX\n-\n-\n\n\nCrema de sol\n-\nX\n-\n-
 \n\n\nProtector labial\n-\nX\n-\n-\n\n\nCartografía\n-\n-\n-\nOpcional\n\
 n\nBrújula\n-\n-\n-\nOpcional\n\n\nPrismáticos\n-\n-\n-\nOpcional\n\n\nG
 PS\n-\n-\n-\nOpcional\n\n\nDocumentación personal\n-\nX\n-\n-\n\n\nTarjet
 a federado\n-\nX\n-\n-\n\n\n\n&nbsp\;\n\nOrganiza: Gonzalo Valle\, Tel\; 6
 22146523\, Mail: gvallealonso@gmail.com\n\n&nbsp\;\n\nTIPO DE ACTIVIDAD: 
 Fija y única. Todos los participantes formarán un grupo único coordinad
 o por el Organizador de la actividad\, y se comprometen a seguir sus instr
 ucciones. Ante el incumplimiento de algún participante\, el Organizador p
 odrá excluirle del grupo y del apoyo de éste\, y posteriormente dar cono
 cimiento del hecho a la Sociedad. Ningún participante iniciará la activi
 dad hasta que el Organizador lo indique. Todos ellos seguirán sus instruc
 ciones y no realizarán recorridos no previstos sin el permiso de éste. C
 ualquier participante que observe alguna situación anómala o de riesgo\,
  deberá comunicarla al Organizador. Igualmente pondrá en su conocimiento
  el mal estado de salud o problema físico de algún miembro del grupo. Po
 r motivos de seguridad\, no podrán participar en la actividad las persona
 s no inscritas y admitidas por la RSEA Peñalara como asistentes.\n\nEsta 
 actividad se realiza entre participantes en igualdad\, ya que no se trata 
 de una actividad tutelada ni formativa.\n\nSEGURO DE ACCIDENTES: Es oblig
 atorio que todos los participantes tengan un seguro que cubra los riesgos 
 de esta actividad. En caso de que alguno no dispusiera de él deberá cont
 ratar al realizar la inscripción\, el seguro diario de accidentes que ofr
 ece la Sociedad.\n\nDECLARACIÓN RESPONSABLE: Todos los participantes debe
 rán haber cumplimentado y firmado la DECLARACIÓN RESPONSABLE DE EXENCIÓ
 N DE RESPONSABILIDADES. Si no la hubieran cumplimentado al hacer la inscri
 pción\, para poder tomar parte en la actividad\, antes de la salida\, en
 tregarán al Organizador una copia de su declaración anual o cumplimentar
 án una específica para esta actividad.  Modelo responsabilidad.pdf\n\nL
 os menores deberán ir acompañados de padres o tutores que se responsabil
 icen de ellos durante toda la actividad.\n\nAVISO Grupo de WhatsApp: Se c
 reará un grupo de WhatsApp formado por las personas que se hayan apuntado
  a la actividad. En caso de no querer ser añadido al mismo\, se debe comu
 nicar al hacer la inscripción. Este grupo tiene como finalidad mejorar la
  comunicación con los participantes\, así como facilitar el intercambio 
 de fotos entre ellos.
ATTACH;FMTTYPE=image/jpeg:https://www.rseapenalara.org/wp-content/uploads/
 2025/10/MontanaSegoviana5.png
CATEGORIES:INFANTIL
END:VEVENT
BEGIN:VTIMEZONE
TZID:Europe/Madrid
X-LIC-LOCATION:Europe/Madrid
BEGIN:DAYLIGHT
DTSTART:20250330T030000
TZOFFSETFROM:+0100
TZOFFSETTO:+0200
TZNAME:CEST
END:DAYLIGHT
END:VTIMEZONE
END:VCALENDAR