BEGIN:VCALENDAR
VERSION:2.0
PRODID:-//wp-events-plugin.com//7.2.2.1//EN
TZID:Europe/Madrid
X-WR-TIMEZONE:Europe/Madrid
BEGIN:VEVENT
UID:511@rseapenalara.org
DTSTART;TZID=Europe/Madrid:20260319T190000
DTEND;TZID=Europe/Madrid:20260319T203000
DTSTAMP:20260310T101202Z
URL:https://www.rseapenalara.org/eventos/mujeresypenalara/
SUMMARY:Conferencia: Mujeres y Peñalara
DESCRIPTION:El próximo 19 de marzo\, a las 19:00 horas\, tendrá lugar un 
 coloquio en nuestra Sede Social con algunas de las mujeres montañeras que
  forman parte de nuestra sociedad.\n"Yo me lo pasé muy bien y eso es lo q
 ue interesa".  Isabel Izaguirre\, sobre el subir el Mont Blanc.\nMujeres 
 ha habido siempre en al montaña. Es muy fácil reconocer a las punteras q
 ue han hecho historia\, pero no son menos importantes las mujeres que vive
 n y disfrutan de la montaña por el mero hecho de que les gusta y les llen
 a y le hacen siempre un hueco en su ajetreada vida. Con este coloquio rend
 imos homenaje a esas mujeres que forman una parte tan clave de nuestro clu
 b.\n\nPonentes: Elisa Mayor Corral\, Pepa Martínez Andreu\, Teresa Costal
 es y las integrantes del GTA 4.\n\nPresenta: María del Campo\n\n¡Os espe
 ramos el jueves que viene!
ATTACH;FMTTYPE=image/jpeg:https://www.rseapenalara.org/wp-content/uploads/
 2026/03/MUJERES-MONTANERAS-RSEA-PENALARA.jpg
CATEGORIES:Conferencias,CULTURA
LOCATION:https://maps.app.goo.gl/1h97uAm823AFM5Pu7
END:VEVENT
BEGIN:VTIMEZONE
TZID:Europe/Madrid
X-LIC-LOCATION:Europe/Madrid
BEGIN:STANDARD
DTSTART:20251026T020000
TZOFFSETFROM:+0200
TZOFFSETTO:+0100
TZNAME:CET
END:STANDARD
END:VTIMEZONE
END:VCALENDAR