BEGIN:VCALENDAR
VERSION:2.0
PRODID:-//wp-events-plugin.com//7.2.2.1//EN
TZID:Europe/Madrid
X-WR-TIMEZONE:Europe/Madrid
BEGIN:VEVENT
UID:422@rseapenalara.org
DTSTART;TZID=Europe/Madrid:20251013T170000
DTEND;TZID=Europe/Madrid:20251015T203000
DTSTAMP:20250828T232855Z
URL:https://www.rseapenalara.org/eventos/picos-de-europa-naranjo-de-bulnes
 -y-pena-mellera/
SUMMARY:PICOS DE EUROPA ( Naranjo de Bulnes y Peña Mellera)
DESCRIPTION:\n\n&nbsp\;\nMARTES PEÑALARA\n DIAS 13 \, 14  y 15 DE OCTUBR
 E\n\nPICOS DE EUROPA : URRIELLU O NARANJO DE BULNES Y EL CERVINO DE PICOS 
 ( PEÑA MELLERA)\nITINERARIO: \n\nDía 13 de octubre. Salida de Madrid a 
 Sotres ( ver en los medios como se llega a Sotres)\, noche en hotel y cena
 .\n\nDia 14 de octubre. Collado de Pandébano y subida al refugio del Urri
 ellu o Naranjo de Bulnes\, posibilidad de comer en el refugio. Bajada a Pa
 ndébano y conoceréis el refugio de la Terenosa\, buena cerveza. Noche en
  Hostal u Hotel.\n\nDia 15 de octubre. Nos vamos al desfiladero de la Herm
 ida para subir al Cervino de Picos de Europa\, Peña Mellera\, comida si p
 uede ser y cada cual a nuestros destinos.\n\nNota: Las rutas pueden sufrir
  cambios en función de las circunstancias o causas meteorológicas.\n\nCI
 TA: Día 13 de octubre en Sotres a media tarde\, se dirá con antelación
  el hotel\, hostal o albergue y cena.\n\nDIFICULTAD: Media\n\nDESNIVEL: El
  día 14\, serán 900 metros y el día 15\, otros 609 metros.\n\nINSCRIPCI
 ON: POR MEDIO DE WHATSAPP AL 657 347 663. EN EL WP INSCRIPCIONES. A PARTIR
  DE LA PUBLICACION EN LA WEB. EN ESTA SALIDA LAS FECHAS PARA LA INSCRIPCI
 ÓN SERÁN 1\, 2 Y 3 DE OCTUBRE PUES HAY QUE CONOCER EL NÚMERO DE INSCRIT
 OS CON ANTELACIÓN PARA RESERVAS DE ALOJAMIENTOS. PONER EN LA INSCRIPCION 
 SALIDA AL NARANJO DE BULNES.\n\nOrganiza: Ezequiel Conde Boal.\n\nMATERIAL
  OBLIGATORIO: Todo lo necesario personal de montaña para INVIERNO. Botas 
 de montaña.\n\nMATERIAL ACONSEJADO: Bastones\,  botiquín personal\, pro
 tección solar\, gorro para el sol \, cantimplora y linterna\, agua y ropa
  de abrigo.\n\nCasco\, arnés\, un mosquetón de seguridad y cordino de 5 
 mm y 1\,5 m de longitud.\n\nESTE APARTADO DE MATERIAL QUIZÁ NO SEA NECESA
 RIO PERO TENEMOS QUE MANTENER TODAS LAS NORMAS DE SEGURIDAD POSIBLES Y EXI
 STENTES. MUCHAS GRACIAS.\n\nCUERDAS Y DEMÁS MATERIAL A CARGO DE LA ORGANI
 ZACIÓN.\n\n&nbsp\;\n\nAVISO: SE ACONSEJA SALIR PRONTO DE MADRID POR ATASC
 OS DEL TRAFICO\, ADELANTAR 30 MINUTOS LA SALIDA COMPENSA.\n\n  \n\nTIPO 
 DE ACTIVIDAD: Fija y única\n\nTodos los participantes formarán un grupo 
 único coordinado por el Organizador de la actividad\, y se comprometen a 
 seguir sus instrucciones. Ante el incumplimiento de algún participante\, 
 el Organizador podrá excluirle del grupo y del apoyo de éste\, y posteri
 ormente dar conocimiento del hecho a la Sociedad Ningún participante inic
 iará la actividad hasta que el Organizador lo indique. Todos ellos seguir
 án sus instrucciones y no realizarán recorridos no previstos sin el perm
 iso de éste. Cualquier participante que observe alguna situación anómal
 a o de riesgo\, deberá comunicarla al Organizador. Igualmente pondrá en 
 su conocimiento el mal estado de salud o problema físico de algún miembr
 o del grupo.\n\nEsta actividad se realiza entre participantes en igualdad\
 , ya que no se trata de una actividad tutelada ni formativa.\n\nSEGURO DE 
 ACCIDENTES: Es obligatorio que todos los participantes tengan un seguro qu
 e cubra los riesgos de esta actividad. En caso de que alguno no dispusiera
  de él\, deberá contratar en la Secretaría el seguro diario de accident
 es que ofrece la Sociedad\, abonando la cantidad fijada. Se recuerda que o
 s podéis federar en montaña por Internet en la página Web de Peñalara.
 \n\nDECLARACIÓN RESPONSABLE: Todos los participantes deberán haber cumpl
 imentado y firmado la DECLARACIÓN RESPONSABLE DE EXENCIÓN DE RESPONSABIL
 IDADES. Si no la hubieran cumplimentado al hacer la inscripción\, para po
 der tomar parte en la actividad\, antes de la salida\, entregarán al Orga
 nizador una copia de su declaración anual o cumplimentarán una específi
 ca para esta actividad. Modelo responsabilidad.pdf
ATTACH;FMTTYPE=image/jpeg:https://www.rseapenalara.org/wp-content/uploads/
 2025/08/IMG-20240719-WA0014_13_10.jpg
CATEGORIES:MARTES PEÑALARA
END:VEVENT
BEGIN:VTIMEZONE
TZID:Europe/Madrid
X-LIC-LOCATION:Europe/Madrid
BEGIN:DAYLIGHT
DTSTART:20250330T030000
TZOFFSETFROM:+0100
TZOFFSETTO:+0200
TZNAME:CEST
END:DAYLIGHT
END:VTIMEZONE
END:VCALENDAR