BEGIN:VCALENDAR
VERSION:2.0
PRODID:-//wp-events-plugin.com//7.2.2.1//EN
TZID:Europe/Madrid
X-WR-TIMEZONE:Europe/Madrid
BEGIN:VEVENT
UID:470@rseapenalara.org
DTSTART;TZID=Europe/Madrid;VALUE=DATE:20251215
DTEND;TZID=Europe/Madrid;VALUE=DATE:20251216
DTSTAMP:20251217T094940Z
URL:https://www.rseapenalara.org/eventos/presentacion-libro-taiana-15-dici
 embre-2025/
SUMMARY:Libro Taiana 15 diciembre 2025
DESCRIPTION:\n\nPRESENTACIÓN DEL LIBRO “LA SIERRA DE GUADARRAMA”.\nEst
 e libro muestra la obra de nuestro socio Alessandro Taiana sobre nuestra S
 ierra. En él se recoge una buena parte de sus pinturas en las que nos mue
 stra la belleza de múltiples rincones del Guadarrama.\n\nEn el libro han 
 colaborado Eduardo Martínez de Pisón\, catedrático emérito de Geograf
 ía de la Universidad Autónoma de Madrid\, y Antonio Bonet Correa\, cated
 rático e historiador del arte español. Además\, el libro incluye extrac
 tos del diario de campo de Alessandro y una colección de mapas en los que
  se puede localizar el lugar exacto en el que Alessandro se situó para re
 alizar cada una de las obras incluidas.\n\nEste libro nos es sólo un magn
 ífico catálogo de las obras de Alessandro\, es además una bellísima re
 presentación de “La Sierra de Guadarrama”.\n\nLa presentación tuvo l
 ugar en el auditorio de la Institución Libre de Enseñanza el día 15 de 
 diciembre\, lunes\, a las 19 horas\, con la participación de Eduardo Mart
 ínez de Pisón y Alessandro Taiana.\n\nDurante la presentación Alessandr
 o hará entrega del cuadro titulado “Peñalara\, nieve de marzo”\, que
  se muestra a continuación\, a la RSEA Peñalara.\n\n\n\n&nbsp\;\n\nDónd
 e: Institución Libre de Enseñanza.  Paseo del General Martínez Campos
 \, 14.   28010 Madrid.\n\nCuando: Día 15 de diciembre a las 19:00 horas
 .\n\nCompra del libro: El precio del libro es 45 euros.\n\n[reservar]\nNot
 a: Si el botón de reserva no está habilitado puede ser porque:\n“Plaza
 s agotadas hasta revisión de pagos”: Los ejemplares del libro se ha ago
 tado.\n“Reserva fuera de plazo”: Ha finalizado el periodo de venta onl
 ine. Por favor\, contacta con la oficina de Peñalara.\n&nbsp\;\n\nA conti
 nuación\, se muestran alguna de las obras incluidas en el libro:\n\n\n\n\
 n\n\n\n\n\n\n\nGuía para la reserva on-line.\n\n 	Cuando se abra la convo
 catoria encontrarás un botón para “Reservar” de color azul. Pincha e
 n dicho botón\, selecciona el número de \n 	participantes con sus respe
 ctivas opciones y añade tu selección al carrito.\n 	Continua con tu rese
 rva pinchando en ver carrito.\n 	Confirma que las plazas seleccionas y el
  coste son correctos y Finaliza Compra. \n 	Añade tus datos de reserva y
  los datos de todos los participantes. Recuerda chequear la política de c
 ancelación y devoluciones y asegúrate que tanto tu como el resto de los 
 participantes nos hagan llegar el documento de Declaración de Exención d
 e Responsabilidad y marca con un check tu compromiso de recordárselo.\n 	
 Por último\, acepta los términos y Finaliza el Pedido para continuar con
  el pago.\n 	El siguiente paso es introducir los datos de la tarjeta banca
 ria en la pasarela de pago de Redsys.\n 	Aparecerá la confirmación de pa
 go en la pantalla de Redsys.\n 	Automáticamente recibirás un mail confir
 mando tu plaza.\n\nCualquier duda\, recuerda que puedes resolverla llamand
 o  a secretaría en el 915 22 87 43 en horario de atención al socio de l
 unes a viernes de 10:00 a 14:00 y por las tardes lunes\, martes y miércol
 es de 15:00 a 19:00 y los jueves de 17:00 a 20:00.
ATTACH;FMTTYPE=image/jpeg:https://www.rseapenalara.org/wp-content/uploads/
 2025/12/TaianaImagen1.jpg
CATEGORIES:Conferencias,CULTURA,EVENTOS,EXPOSICIONES
LOCATION:https://maps.app.goo.gl/QXSw9hV78CohoZzj9
END:VEVENT
BEGIN:VTIMEZONE
TZID:Europe/Madrid
X-LIC-LOCATION:Europe/Madrid
BEGIN:STANDARD
DTSTART:20251026T020000
TZOFFSETFROM:+0200
TZOFFSETTO:+0100
TZNAME:CET
END:STANDARD
END:VTIMEZONE
END:VCALENDAR