BEGIN:VCALENDAR
VERSION:2.0
PRODID:-//wp-events-plugin.com//7.2.2.1//EN
TZID:Europe/Madrid
X-WR-TIMEZONE:Europe/Madrid
BEGIN:VEVENT
UID:396@rseapenalara.org
DTSTART;TZID=Europe/Madrid;VALUE=DATE:20250613
DTEND;TZID=Europe/Madrid;VALUE=DATE:20250616
DTSTAMP:20250602T204717Z
URL:https://www.rseapenalara.org/eventos/reunion-de-escalada-game-2025/
SUMMARY:Reunión de Escalada GAME 2025
DESCRIPTION:\n&nbsp\;\nReunión de Escalada en Riglos\nGAME 2025\n13-14-15 
 de junio de 2025\n&nbsp\;\n\n\n\n\n\n&nbsp\;\n\nEstá fallando la página 
 de pago de la FEDME\, por lo que la inscripción\, en las diferentes modal
 idades\, debe hacerse mediante transferencia a esa cuenta incluyendo\, en 
 el concepto\, nombre y apellidos de los asistentes. Una vez hecho\, enví
 a el justificante de transferencia a rafavadillo@gmail.com.\n\nNúmero de 
 cuenta: Caixabank ES29 2100 3113 6022 0025 1836\n\nBeneficiario: Club Alp
 í Virtual\n\nConcepto: Reunion GAME Riglos\n\n&nbsp\;\n\nExiste un Grup
 o de WhatsApp para aquellos que busquen cordada o necesiten información a
 dicional o quieran pernoctar haciendo vivac o en furgonetas:  https://cha
 t.whatsapp.com/J9MYcDRUwpJ9SOfbD8ymnF\n\n&nbsp\;\n\nORGANIZA:  Vocalía
  de Escalada. \n\n 	Vicente Sanz. Tel: +34 666 14 77 62\n 	Rafael Domenec
 h. Tel: +34 639 76 16 19\n\n&nbsp\;\n\nTIPO DE ACTIVIDAD: Libre\n\nEsta a
 ctividad es individual o por cordadas\, no guiada\, realizada bajo respons
 abilidad exclusivamente personal\, con el material y los elementos de segu
 ridad que crea oportunos. De constituirse algún grupo que realice el mism
 o itinerario\, no hay nadie que asuma la dirección o guiado.\n\nSEGURO DE
  ACCIDENTES: Es obligatorio que todos los participantes tengan un seguro 
 que cubra los riesgos de esta actividad. En caso de que alguno no dispusie
 ra de él\, deberá contratar en la Secretaría el seguro diario de accide
 ntes que ofrece la Sociedad\, abonando la cantidad fijada.\n\nDECLARACIÓN
  RESPONSABLE: Todos los participantes deberán haber cumplimentado y firma
 do la DECLARACIÓN RESPONSABLE DE EXENCIÓN DE RESPONSABILIDADES. Si no la
  hubieran cumplimentado al hacer la inscripción\, para poder tomar parte 
 en la actividad\, antes de la salida\, entregarán al Organizador una cop
 ia de su declaración anual o cumplimentarán una específica para esta ac
 tividad. Modelo responsabilidad.pdf\n\nLos menores deberán ir acompañad
 os de padres o tutores que se responsabilicen de ellos durante toda la act
 ividad.
ATTACH;FMTTYPE=image/jpeg:https://www.rseapenalara.org/wp-content/uploads/
 2025/06/GAME2.jpg
CATEGORIES:ESCALADA
END:VEVENT
BEGIN:VTIMEZONE
TZID:Europe/Madrid
X-LIC-LOCATION:Europe/Madrid
BEGIN:DAYLIGHT
DTSTART:20250330T030000
TZOFFSETFROM:+0100
TZOFFSETTO:+0200
TZNAME:CEST
END:DAYLIGHT
END:VTIMEZONE
END:VCALENDAR