BEGIN:VCALENDAR
VERSION:2.0
PRODID:-//wp-events-plugin.com//7.2.2.1//EN
TZID:Europe/Madrid
X-WR-TIMEZONE:Europe/Madrid
BEGIN:VEVENT
UID:390@rseapenalara.org
DTSTART;TZID=Europe/Madrid:20250613T212000
DTEND;TZID=Europe/Madrid:20250614T103000
DTSTAMP:20250603T101442Z
URL:https://www.rseapenalara.org/eventos/ruta-de-cuerda-larga-nocturna/
SUMMARY:Ruta de Cuerda Larga nocturna
DESCRIPTION:\n\nRUTA: Al igual que en años anteriores\, se realizará la t
 ravesía nocturna de la Cuerda Larga\, la ruta por excelencia de la Comuni
 dad de Madrid\, con el interés y la dificultad añadida de realizarse dur
 ante la noche. Se trata de una ruta larga y exigente\, en la que la ausenc
 ia de contaminación lumínica nos permitirá disfrutar de un precioso rec
 orrido iluminado por la luna llena\, en el que podremos disfrutar de la vi
 sión de las estrellas a más de 2.000m de altitud.\n\nPara la aproximaci
 ón utilizaremos el transporte publico\, desde la estación de FF.CC. de C
 ercedilla nos trasladaremos en taxis hasta el Puerto de Navacerrada\, dond
 e comenzaremos.  La primera ascensión será la más larga\, pues nos lle
 vará desde los 1.850m del Puerto hasta los 2.262m del Alto de las Guarram
 illas. Continuaremos el camino con la ascensión al Cerro de Valdemartín\
 , Cabeza de Hierro Menor y Cabeza Mayor 2.381m\, que será el pico más al
 to de toda la ruta. En él haremos una buena parada para cenar.\n\nTras el
 lo seguiremos a la Loma de Pandasco\, Alto de Navahondilla\, Asómate de H
 oyos\, Bailanderos y por último la Najarra donde previsiblemente veremos 
 amanecer\, realizando un descanso.\n\nA continuación efectuaremos el desc
 enso al pueblo de Miraflores donde tras realizar el merecido desayuno toma
 remos el autobús del servicio publico que nos devolverá a Madrid.\n\nDES
 NIVEL Y DIFICULTADES: La ruta será de unos 23km de distancia y de unos 1.
 200m de desnivel acumulado. Dicha ruta transcurre por camino y senda\, sin
  dificultad técnica\, aunque debido a la distancia del recorrido y a la c
 ondición nocturna se considera es de una dificultad ALTA.\n\nPlazas: 20 (
 para personas socias y no socias que no hayan participado en más de 3 sal
 idas del club).\n\nHora: 21:30 h en la estación de FF.CC. de Cercedilla.\
 n\nInscripción: Completando el formulario una vez salga publicada la conv
 ocatoria en el boletín\, hasta el martes 10 de junio de 2025.\n\nTranspor
 te: Taxi desde Cercedilla al Pto. de Navacerrada\, autobús público desde
  Miraflores a Madrid.\n\nPrecio: El del transporte y desayuno (aprox 15€
  en total)\, que se abonará en el momento.\n\nMATERIAL OBLIGATORIO: El ne
 cesario para una ruta de Alta Montaña primaveral atendiendo a la meteorol
 ogía: botas de treeking\, bastones\, ropa de abrigo y lluvia\, gorro\, gu
 antes\, gorra para el sol\, crema solar. Agua y comida para la ruta. Front
 al.\n\nOrganiza: Miguel Angel Ruiz y Lorenzo Uriarte.\n\nContacto en: excu
 rsionismo@rseapenalara.org\n\nTRACK: Se facilitará con antelación a todo
 s los participantes.\n\n&nbsp\;\n\nTIPO DE ACTIVIDAD: Fija y única. Todo
 s los participantes formarán un grupo único coordinado por el Organizado
 r de la actividad\, y se comprometen a seguir sus instrucciones. Ante el i
 ncumplimiento de algún participante\, el Organizador podrá excluirle del
  grupo y del apoyo de éste\, y posteriormente dar conocimiento del hecho 
 a la Sociedad. Ningún participante iniciará la actividad hasta que el Or
 ganizador lo indique. Todos ellos seguirán sus instrucciones y no realiza
 rán recorridos no previstos sin el permiso de éste. Cualquier participan
 te que observe alguna situación anómala o de riesgo\, deberá comunicarl
 a al Organizador. Igualmente pondrá en su conocimiento el mal estado de s
 alud o problema físico de algún miembro del grupo. Por motivos de seguri
 dad\, no podrán participar en la actividad las personas no inscritas y ad
 mitidas por la RSEA Peñalara como asistentes.\n\nEsta actividad se realiz
 a entre participantes en igualdad\, ya que no se trata de una actividad tu
 telada ni formativa.\n\nSEGURO DE ACCIDENTES: Es obligatorio que todos lo
 s participantes tengan un seguro que cubra los riesgos de esta actividad. 
 En caso de que alguno no dispusiera de él deberá contratar al realizar l
 a inscripción\, el seguro diario de accidentes que ofrece la Sociedad.\n\
 nDECLARACIÓN RESPONSABLE: Todos los participantes deberán haber cumplime
 ntado y firmado la DECLARACIÓN RESPONSABLE DE EXENCIÓN DE RESPONSABILIDA
 DES. Si no la hubieran cumplimentado al hacer la inscripción\, para poder
  tomar parte en la actividad\, antes de la salida\, entregarán al Organi
 zador una copia de su declaración anual o cumplimentarán una específica
  para esta actividad.  Modelo responsabilidad.pdf\n\nLos menores deberán
  ir acompañados de padres o tutores que se responsabilicen de ellos duran
 te toda la actividad.\n\nAPLAZAMIENTOS\, SUSPENSIONES Y DEVOLUCIONES: En 
 caso de no participación en la actividad\, siempre que se haya comunicado
  esta circunstancia con antelación\, se devolverá el importe abonado\, d
 escontando los gastos que se hubieran originado y el 5% de gastos de gesti
 ón. Si se produjera una suspensión de la actividad\, esta tendrá su efe
 cto siempre que no se haya hecho uso de alguno de los servicios ofrecidos 
 en la convocatoria. En este caso se devolverá a los inscritos el importe 
 abonado\, descontando los gastos que se hubieran originado y el 5% de gast
 os de gestión. En caso de aplazamiento\, se mantendrán los pagos e inscr
 ipciones de los que así lo manifiesten para la futura celebración. A los
  inscritos que no quisieran mantener la inscripción se les devolverá el 
 importe de la inscripción descontando el 5% de gastos de gestión. Todas 
 las devoluciones se realizarán entre los 15 y 30 días posteriores a la f
 echa prevista de celebración.\n\nAVISO Grupo de WhatsApp: Se creará un 
 grupo de WhatsApp formado por las personas que se hayan apuntado a la excu
 rsión. En caso de no querer ser añadido al mismo\, se debe comunicar al 
 hacer la inscripción. Este grupo tiene como finalidad mejorar la comunica
 ción con los participantes\, así como facilitar el intercambio de fotos 
 entre ellos.
ATTACH;FMTTYPE=image/jpeg:https://www.rseapenalara.org/wp-content/uploads/
 2024/04/Cuerda-larga-nocturna-scaled.jpg
CATEGORIES:EXCURSIONISMO
LOCATION:https://maps.app.goo.gl/5wo6hbnSttQ3yDdx9
END:VEVENT
BEGIN:VTIMEZONE
TZID:Europe/Madrid
X-LIC-LOCATION:Europe/Madrid
BEGIN:DAYLIGHT
DTSTART:20250330T030000
TZOFFSETFROM:+0100
TZOFFSETTO:+0200
TZNAME:CEST
END:DAYLIGHT
END:VTIMEZONE
END:VCALENDAR