BEGIN:VCALENDAR
VERSION:2.0
PRODID:-//wp-events-plugin.com//7.2.2.1//EN
TZID:Europe/Madrid
X-WR-TIMEZONE:Europe/Madrid
BEGIN:VEVENT
UID:440@rseapenalara.org
DTSTART;TZID=Europe/Madrid:20251122T090000
DTEND;TZID=Europe/Madrid:20251122T180000
DTSTAMP:20251028T114947Z
URL:https://www.rseapenalara.org/eventos/ruta-la-isla-de-rascafria-al-puer
 to-de-los-cotos-madrid/
SUMMARY:Ruta La Isla de Rascafría al Puerto de los Cotos (Madrid)
DESCRIPTION:\nRuta La Isla de Rascafría al Puerto de los Cotos (Madrid)\n2
 2/11/2025\nDIFICULTAD (ver MIDE)\nRUTA: Desde el aparcamiento del área Re
 creativa La Isla\, en Rascafría\, caminaremos unos 200m en dirección Ras
 cafría\, para cruzar la carretera\, M604\, y subir por  la pista asfalta
 da al monumento al guarda forestal. Desde aquí tomaremos la pista foresta
 l hacia la derecha para más adelante girar a la izquierda y subir por el 
 camino del Palero hasta Cotos\, pasando por la silla de Malabarba\, la sil
 lada de Garcisancho\, cruzaremos el arroyo del desagüe de la Laguna de Pe
 ñalara para una vez pasada la Pradera\, antiguamente acampaba el cuerpo d
 e guerrilleros del ejercito de tierra\, llegar al aparcamiento de Cotos y 
 a venta Marcelino.\n\nHaremos un descanso de unos 30 minutos para reponer 
 fuerzas e hidratarnos.\n\nComenzaremos el retorno dirigiéndonos a la part
 e final del aparcamiento en donde encontraremos unas escaleras que nos lle
 varán por una senda hacia unos prados en dirección al arroyo de las Guar
 ramillas y al río Lozoya o de la Angostura\, para seguir por pistas fores
 tales y sendas hasta la presa del Pradillo\, el restaurante la Isla y el a
 parcamiento.\n\nDESNIVEL Y DIFICULTADES: La ruta discurre por pistas fores
 tales y sendas sin ninguna dificultad. Tiene aproximadamente 800 m de desn
 ivel positivo/negativo acumulados y un recorrido de unos 18\,5 km.\n\n\n\n
 Plazas: 25 (para personas socias y no socias que no hayan participado en m
 ás de 3 salidas del club).\n\nHora: 9:00 h en el aparcamiento del área r
 ecreativa de La Isla de Rascafría.\n\nInscripción: completando el formul
 ario una vez salga publicada la convocatoria en el boletín\, hasta el jue
 ves 13 de noviembre de 2025.\n\nTransporte: por cuenta de los asistentes.
 \n\nPrecio: gratuito.\n\nMATERIAL OBLIGATORIO: El necesario para una ruta 
 de montaña otoñal\, atendiendo a la meteorología: botas de treking\, ba
 stones\, ropa de abrigo y lluvia\, crema solar. Agua y comida. Botiquín p
 ersonal.\n\nOrganizan: Jesús Sanz y Miguel Ángel Prats.\n\nContacto en: 
 excursionismo@rseapenalara.org\n\nTRACK: se intentará facilitar con antel
 ación a todos los participantes.\n\nTIPO DE ACTIVIDAD: Fija y única. To
 dos los participantes formarán un grupo único coordinado por el Organiza
 dor de la actividad\, y se comprometen a seguir sus instrucciones. Ante el
  incumplimiento de algún participante\, el Organizador podrá excluirle d
 el grupo y del apoyo de éste\, y posteriormente dar conocimiento del hech
 o a la Sociedad. Ningún participante iniciará la actividad hasta que el 
 Organizador lo indique. Todos ellos seguirán sus instrucciones y no reali
 zarán recorridos no previstos sin el permiso de éste. Cualquier particip
 ante que observe alguna situación anómala o de riesgo\, deberá comunica
 rla al Organizador. Igualmente pondrá en su conocimiento el mal estado de
  salud o problema físico de algún miembro del grupo. Por motivos de segu
 ridad\, no podrán participar en la actividad las personas no inscritas y 
 admitidas por la RSEA Peñalara como asistentes.\n\nEsta actividad se real
 iza entre participantes en igualdad\, ya que no se trata de una actividad 
 tutelada ni formativa.\n\nSEGURO DE ACCIDENTES: Es obligatorio que todos 
 los participantes tengan un seguro que cubra los riesgos de esta actividad
 . En caso de que alguno no dispusiera de él deberá contratar al realizar
  la inscripción\, el seguro diario de accidentes que ofrece la Sociedad.\
 n\nDECLARACIÓN RESPONSABLE: Todos los participantes deberán haber cumpli
 mentado y firmado la DECLARACIÓN RESPONSABLE DE EXENCIÓN DE RESPONSABILI
 DADES. Si no la hubieran cumplimentado al hacer la inscripción\, para pod
 er tomar parte en la actividad\, antes de la salida\, entregarán al Orga
 nizador una copia de su declaración anual o cumplimentarán una específi
 ca para esta actividad.  Modelo responsabilidad.pdf\n\nLos menores deber
 án ir acompañados de padres o tutores que se responsabilicen de ellos du
 rante toda la actividad.\n\nAPLAZAMIENTOS\, SUSPENSIONES Y DEVOLUCIONES: 
 En caso de no participación en la actividad\, siempre que se haya comunic
 ado esta circunstancia con antelación\, se devolverá el importe abonado\
 , descontando los gastos que se hubieran originado y el 5% de gastos de ge
 stión. Si se produjera una suspensión de la actividad\, esta tendrá su 
 efecto siempre que no se haya hecho uso de alguno de los servicios ofrecid
 os en la convocatoria. En este caso se devolverá a los inscritos el impor
 te abonado\, descontando los gastos que se hubieran originado y el 5% de g
 astos de gestión. En caso de aplazamiento\, se mantendrán los pagos e in
 scripciones de los que así lo manifiesten para la futura celebración. A 
 los inscritos que no quisieran mantener la inscripción se les devolverá 
 el importe de la inscripción descontando el 5% de gastos de gestión. Tod
 as las devoluciones se realizarán entre los 15 y 30 días posteriores a l
 a fecha prevista de celebración.\n\nAVISO Grupo de WhatsApp: Se creará 
 un grupo de WhatsApp formado por las personas que se hayan apuntado a la e
 xcursión. En caso de no querer ser añadido al mismo\, se debe comunicar 
 al hacer la inscripción. Este grupo tiene como finalidad mejorar la comun
 icación con los participantes\, así como facilitar el intercambio de fot
 os entre ellos.\n\nDetalles generales MIDE:\n\n
ATTACH;FMTTYPE=image/jpeg:https://www.rseapenalara.org/wp-content/uploads/
 2025/10/IMG-20240406-WA0074-1.jpg
CATEGORIES:EXCURSIONISMO
LOCATION:https://maps.app.goo.gl/rGJoCxCFNkByu6MS9
END:VEVENT
BEGIN:VTIMEZONE
TZID:Europe/Madrid
X-LIC-LOCATION:Europe/Madrid
BEGIN:STANDARD
DTSTART:20251026T020000
TZOFFSETFROM:+0200
TZOFFSETTO:+0100
TZNAME:CET
END:STANDARD
END:VTIMEZONE
END:VCALENDAR