BEGIN:VCALENDAR
VERSION:2.0
PRODID:-//wp-events-plugin.com//7.2.2.1//EN
TZID:Europe/Madrid
X-WR-TIMEZONE:Europe/Madrid
BEGIN:VEVENT
UID:421@rseapenalara.org
DTSTART;TZID=Europe/Madrid:20251007T091500
DTEND;TZID=Europe/Madrid:20251007T181500
DTSTAMP:20250828T225739Z
URL:https://www.rseapenalara.org/eventos/ruta-por-la-pedriza-y-visita-al-m
 useo-de-cantocochino/
SUMMARY:RUTA POR LA PEDRIZA Y VISITA AL MUSEO DE CANTOCOCHINO
DESCRIPTION:\n\n&nbsp\;\nMARTES PEÑALARA\nLA PEDRIZA Y VISITA AL MUSEO DE 
 MONTAÑA DE CANTOCOCHINO.\nCOMENZAMOS TEMPORADA DESPUES DEL VERANO. ANIMO 
 Y A DISFRUTAR VIENDONOS TODOS.\nSALIDA: Día 7 de octubre nos vamos a la P
 edriza\, recordando los tiempos clásicos\, como se iba hace años. Visita
 remos el Museo de Montaña de Canto Cochino\, con gran Historia Peñalara.
 \nITINERARIO: Pueblo de Manzanares el Real\, Gran Cañada del Yelmo\, Cant
 o Cochino\, camino por el rio al Tranco y vuelta al pueblo.\n\nCITA: Día 
 07/10/25 a las 9:15h en la plaza del ayuntamiento de Manzanares el Real.\n
 \nDIFICULTAD: Moderada.\n\nDESNIVEL: 551 m.\n\nINSCRIPCION: POR MEDIO DE W
 HATSAPP AL 657 347 663. EN EL WP INSCRIPCIONES. A PARTIR DE LA PUBLICACION
  EN LA WEB.\n\nComo es costumbre comeremos en un restaurante de menú. TOD
 OS LOS QUE DESEEN COMER QUE LO INDIQUEN AL INSCRIBIRSE CON AL MENOS DOS DI
 AS DE ANTELACIÓN\, POR LO QUE SE RUEGA NO DEJAR LA INSCRIPCION PARA EL FI
 NAL.MUCHAS GRACIAS.\n\nOrganiza: Ezequiel Conde Boal.\n\nMATERIAL OBLIGATO
 RIO: Todo lo necesario personal de montaña para periodo otoñal. Botas de
  duras o ligeras según la metereología.\n\nMATERIAL ACONSEJADO: Bastones
 \,  botiquín personal\, protección solar\, gorro para el sol \, cantimp
 lora y linterna. Agua.\n\nAVISO: SE ACONSEJA SALIR PRONTO DE MADRID POR AT
 ASCOS DEL TRAFICO\, ADELANTAR 30 MINUTOS LA SALIDA COMPENSA.\n\n  \n\nTI
 PO DE ACTIVIDAD: Fija y única\n\nTodos los participantes formarán un gru
 po único coordinado por el Organizador de la actividad\, y se comprometen
  a seguir sus instrucciones. Ante el incumplimiento de algún participante
 \, el Organizador podrá excluirle del grupo y del apoyo de éste\, y post
 eriormente dar conocimiento del hecho a la Sociedad Ningún participante i
 niciará la actividad hasta que el Organizador lo indique. Todos ellos seg
 uirán sus instrucciones y no realizarán recorridos no previstos sin el p
 ermiso de éste. Cualquier participante que observe alguna situación anó
 mala o de riesgo\, deberá comunicarla al Organizador. Igualmente pondrá 
 en su conocimiento el mal estado de salud o problema físico de algún mie
 mbro del grupo.\n\nEsta actividad se realiza entre participantes en iguald
 ad\, ya que no se trata de una actividad tutelada ni formativa.\n\nSEGURO 
 DE ACCIDENTES: Es obligatorio que todos los participantes tengan un seguro
  que cubra los riesgos de esta actividad. En caso de que alguno no dispusi
 era de él\, deberá contratar en la Secretaría el seguro diario de accid
 entes que ofrece la Sociedad\, abonando la cantidad fijada. Se recuerda qu
 e os podéis federar en montaña por Internet en la página Web de Peñala
 ra.\n\nDECLARACIÓN RESPONSABLE: Todos los participantes deberán haber cu
 mplimentado y firmado la DECLARACIÓN RESPONSABLE DE EXENCIÓN DE RESPONSA
 BILIDADES. Si no la hubieran cumplimentado al hacer la inscripción\, para
  poder tomar parte en la actividad\, antes de la salida\, entregarán al O
 rganizador una copia de su declaración anual o cumplimentarán una espec
 ífica para esta actividad. Modelo responsabilidad.pdf
ATTACH;FMTTYPE=image/jpeg:https://www.rseapenalara.org/wp-content/uploads/
 2025/08/IMG-20250710-WA0036_7_10.jpg
CATEGORIES:MARTES PEÑALARA
LOCATION:https://www.google.com/maps/place/Ayuntamiento+de+Manzanares+el+Re
 al./@40.72663,-3.8654399,319m/data=!3m1!1e3!4m6!3m5!1s0xd417b29fb38e881:0x
 8f3bf429f538fb20!8m2!3d40.7267986!4d-3.8650743!16s%2Fg%2F1hjgpsl7l?entry=t
 tu&g_ep=EgoyMDI1MDgyNS4wIKXMDSoASAFQAw%3D%3D
END:VEVENT
BEGIN:VTIMEZONE
TZID:Europe/Madrid
X-LIC-LOCATION:Europe/Madrid
BEGIN:DAYLIGHT
DTSTART:20250330T030000
TZOFFSETFROM:+0100
TZOFFSETTO:+0200
TZNAME:CEST
END:DAYLIGHT
END:VTIMEZONE
END:VCALENDAR