BEGIN:VCALENDAR
VERSION:2.0
PRODID:-//wp-events-plugin.com//7.2.2.1//EN
TZID:Europe/Madrid
X-WR-TIMEZONE:Europe/Madrid
BEGIN:VEVENT
UID:509@rseapenalara.org
DTSTART;TZID=Europe/Madrid:20260410T000000
DTEND;TZID=Europe/Madrid:20260412T000000
DTSTAMP:20260307T124827Z
URL:https://www.rseapenalara.org/eventos/salida-btt-duruelo-de-la-sierra-s
 oria/
SUMMARY:SALIDA BTT DURUELO DE LA SIERRA (SORIA)
DESCRIPTION:\n\nSALIDA BTT DURUELO (SORIA) 2026\n10-12 de abril\n DURUEL
 O TIERRA SORIA\n( DIFICULTAD: Media . Sábado- Distancia: 49 km y desnivel
 : 783 m y\nDoningo- Distancia: 30 km y desnivel: 564 m)\n\nRecorridos:\nS
 ábado11: Saldremos de Duruelo hacia la sierra de la Umbría. Tras recorr
 er los pinares de sus vertientes norte y sur llegaremos a Carnicosa\, ya e
 n la provincia de Burgos y desde allí al área de Comunero de Revenga\, c
 on su ermita\, albergue y necrópolis medieval\, Nos adentraremos en las l
 adera de la Sierra de Urbión pasando por la necrópolis de Cuyacabras. Cr
 uzando nuevamente a la provincia de Soria regresaremos a Duruelo  49 km c
 on 783 de desnivel.\n\nEl domingo 12: Desde Duruelo. por pista asfaltada c
 on tramos de tierra subiremos al refugio llamado el Búnker\, remontando e
 l recién nacido Duero. Ya en descenso podremos visitar el área recreativ
 a de Castroviejo\, con vía ferrata ( Cuerda la Graja) en sus inmediacione
 s. De vuelta a Duruelo realizaremos un cómodo y bonito recorrido por las 
 orillas del Duero. 30 km con 564 m de desnivel.\n\nNota: Las rutas pueden 
 sufrir cambios en función de las circunstancias. Nivel Técnico y dureza 
 del Recorrido: sábado y domingo medio\, las sendas\, caminos\, pistas y
  carreteras son de buena calidad y gran belleza. Aptas para Gravel en su m
 ayor parte.\n\nPLAZAS: 18  (Disponibles únicamente para socios de Peñ
 alara sí se cubre el cupo de inscripción).\n\nINSCRIPCIÓN Y PAGO: Pinch
 ando en el BOTÓN RESERVAR.  Se habilitará la inscripción una vez salga
  publicada esta convocatoria en el boletín informativo quincenal\, hasta 
 el  6 de abril 2026  o cuando se completen las plazas.  \n\n[reserva
 r]\nNota: Si el botón de reserva no está habilitado puede ser porque:\n
 “Las plazas se pondrán próximamente a disposición del público”: La
  actividad aún no ha sido publicada en el boletín informativo quincenal 
 de socios y por tanto el periodo de reserva aún no se ha abierto.\n“Pla
 zas agotadas hasta revisión de pagos”: Las plazas ofrecidas han sido cu
 biertas\, puede haber duplicidades o errores de pago. Mientras realizamos 
 las comprobaciones oportunas\, te recomendamos apuntarte en lista de esper
 a en el siguiente enlace: apuntarme a la Lista de Espera.\n“Reserva fuer
 a de plazo”: Ha finalizado el periodo de inscripción para dicha activid
 ad\, contacta con la oficina para consultar si hay alguna plaza libre.\n\n
 PRECIO: 121\,00€ (socios). Los no socios\, si hubiese plazas\, pagarían
  145\,00€.\n\nIncluye: Pernoctas del viernes y sábado\, desayunos del 
 sábado y domingo\, cenas del viernes y del sábado\n\nALOJAMIENTO: Hote
 l Casa Rómulo Duruelo de la Sierra\n\nRUTAS: \n\nSábado: https://es.wiki
 loc.com/rutas-mountain-bike/duruelo-tierra-soria-250986466\n\nDomingo:  h
 ttps://es.wikiloc.com/rutas-mountain-bike/duruelo-duero-250986697\n\nTRANS
 PORTE: Coches particulares.\n\nORGANIZA: Enrique Melcón Diaz Tlf: 638 51
  52 78 \n\nMATERIAL OBLIGATORIO: bicicleta de montaña\, casco\, ropa de
  abrigo e impermeable\, cámara de repuesto para rueda\, parches\, bomba d
 e aire\, chaleco de alta visibilidad.\n\nMATERIAL RECOMENDADO: GPS o mapa
  y brújula\, manta térmica\, iluminación delantera y trasera en la bici
 \, linterna frontal.\n\nGuía para la reserva on-line.\n\n 	Cuando se abra
  la convocatoria encontrarás un botón para “Reservar” de color azu
 l. Pincha en dicho botón\, selecciona el número de participantes con su
 s respectivas opciones y añade tu selección al carrito.\n 	Continua con
  tu reserva pinchando en ver carrito.\n 	Confirma que las plazas seleccion
 as y el coste (si procede) son correctos y Finaliza Compra. \n 	Añade t
 us datos de reserva y los datos de todos los participantes. Recuerda cheq
 uear la política de cancelación y devoluciones y asegúrate que tanto tu
  como el resto de los participantes nos hagan llegar el documento de Decl
 aración de Exención de Responsabilidad y marca con un check tu compromis
 o de recordárselo.\n 	Por último\, acepta los términos y Finaliza el P
 edido. En caso de ser una actividad gratuita\, el proceso finaliza aquí\
 , de lo contrario\, continúa con el pago.\n 	El siguiente paso es introdu
 cir los datos de la tarjeta bancaria en la pasarela de pago.\n 	Recibirá
 s un correo electrónico confirmando tu reserva.\n\nCualquier duda\, recue
 rda que puedes resolverla llamando a secretaría en el horario de atenció
 n al socio de lunes a viernes de 10:00 a 14:00 y por las tardes lunes\, ma
 rtes y miércoles de 15:00 a 19:00 y los jueves de 17:00 a 20:00.\n\nTIPO 
 DE ACTIVIDAD: Fija y única\n\nTodos los participantes formarán un grupo 
 único coordinado por el Organizador de la actividad\, y se comprometen a 
 seguir sus instrucciones. Ante el incumplimiento de algún participante\, 
 el Organizador podrá excluirle del grupo y del apoyo de éste\, y posteri
 ormente dar conocimiento del hecho a la Sociedad Ningún participante inic
 iará la actividad hasta que el Organizador lo indique. Todos ellos seguir
 án sus instrucciones y no realizarán recorridos no previstos sin el perm
 iso de éste. Cualquier participante que observe alguna situación anómal
 a o de riesgo\, deberá comunicarla al Organizador. Igualmente pondrá en 
 su conocimiento el mal estado de salud o problema físico de algún miembr
 o del grupo. Por motivos de seguridad\, no podrán participar en la activi
 dad las personas no inscritas y admitidas por la RSEA Peñalara como asist
 entes.\n\nEsta actividad se realiza entre participantes en igualdad\, ya q
 ue no se trata de una actividad tutelada ni formativa.\n\nSEGURO DE ACCIDE
 NTES: Es obligatorio que todos los participantes tengan un seguro que cub
 ra los riesgos de esta actividad. En caso de que alguno no dispusiera de 
 él deberá contratar al realizar la inscripción\, el seguro diario de ac
 cidentes que ofrece la Sociedad.\n\nDECLARACIÓN RESPONSABLE: Todos los pa
 rticipantes deberán haber cumplimentado y firmado la DECLARACIÓN RESPONS
 ABLE DE EXENCIÓN DE RESPONSABILIDADES. Si no la hubieran cumplimentado al
  hacer la inscripción\, para poder tomar parte en la actividad\, antes d
 e la salida\, entregarán al Organizador una copia de su declaración anua
 l o cumplimentarán una específica para esta actividad.  Modelo responsa
 bilidad.pdf\n\nLos menores deberán ir acompañados de padres o tutores qu
 e se responsabilicen de ellos durante toda la actividad.\n\n APLAZAMIENTO
 S\, SUSPENSIONES Y DEVOLUCIONES: \n\nEn caso de no participación en la a
 ctividad\, siempre que se haya comunicado esta circunstancia con antelaci
 ón\, se devolverá el importe abonado\, descontando los gastos que se hub
 ieran originado y el 5% de gastos de gestión.\n\nSi se produjera una susp
 ensión de la actividad\, esta tendrá su efecto siempre que no se haya he
 cho uso de alguno de los servicios ofrecidos en la convocatoria. En este c
 aso se devolverá a los inscritos el importe abonado\, descontando los gas
 tos que se hubieran originado.\n\nEn caso de aplazamiento\, se mantendrán
  los pagos e inscripciones de los que así lo manifiesten para la futura c
 elebración. A los inscritos que no quisieran mantener la inscripción se 
 les devolverá el importe de la inscripción descontando los gastos que se
  hubieran originado. \n\nTodas las devoluciones se realizarán entre los 1
 5 y 30 días posteriores a la fecha prevista de celebración.\n\nAVISO Gru
 po de WhatsApp: Se creará un grupo de WhatsApp formado por las personas 
 que se hayan apuntado a la excursión. En caso de no querer ser añadido a
 l mismo\, se debe comunicar al hacer la inscripción. Este grupo tiene com
 o finalidad mejorar la comunicación con los participantes\, así como fac
 ilitar el intercambio de fotos entre ellos.
ATTACH;FMTTYPE=image/jpeg:https://www.rseapenalara.org/wp-content/uploads/
 2024/11/FOTO-4-NAZAREANDO-20241116_132900-scaled.jpeg
CATEGORIES:BTT
END:VEVENT
BEGIN:VTIMEZONE
TZID:Europe/Madrid
X-LIC-LOCATION:Europe/Madrid
BEGIN:DAYLIGHT
DTSTART:20260329T030000
TZOFFSETFROM:+0100
TZOFFSETTO:+0200
TZNAME:CEST
END:DAYLIGHT
END:VTIMEZONE
END:VCALENDAR