BEGIN:VCALENDAR
VERSION:2.0
PRODID:-//wp-events-plugin.com//7.2.2.1//EN
TZID:Europe/Madrid
X-WR-TIMEZONE:Europe/Madrid
BEGIN:VEVENT
UID:442@rseapenalara.org
DTSTART;TZID=Europe/Madrid:20260101T000000
DTEND;TZID=Europe/Madrid:20260110T000000
DTSTAMP:20251015T091602Z
URL:https://www.rseapenalara.org/eventos/semana-de-esqui-de-pista-y-de-mon
 tana-en-espot-pirineo-de-lerida/
SUMMARY:SEMANA de ESQUÍ de PISTA y de MONTAÑA EN ESPOT (Pirineo de Lérid
 a)
DESCRIPTION: \nSEMANA DE ESQUÍ DE PISTA Y DE MONTAÑA EN ESPOT (LÉRIDA)\
 n( A elegir fechas por los participantes entre el 1/01/26 al 10/01/26)\n\n
 \nUn año más volvemos a Espot\, pequeña y tranquila estación de esquí
 \, donde el alojamiento en el Hotel Or Blanc\, a pie de pistas\, hace de e
 stos días una estancia muy cómoda y agradable. No hay aglomeraciones imp
 ortantes\, ya que la oferta de alojamientos en la zona es inferior a la ca
 pacidad de los remontes de la estación\, y además la proximidad de Baque
 ira "roba" muchos esquiadores...\n\nLa estación cuenta con varios recorri
 dos de esquí de montaña muy asequibles\, por bosques y con llegada a col
 lados y cimas muy entretenidas. La noche de Reyes es espectacular\, con de
 scenso con esquís con antorchas\, inolvidable para niños y adultos.\n\nH
 emos reservado en el hotel Or Blanc 16 habitaciones\, lo que supone una pl
 anta completa del hotel\, en la primera semana de enero\, siempre que ante
 s del 25 de noviembre les comuniquemos el número de las que vamos a ocupa
 r. Cubiertas las 16 habitaciones disponibles se abrirá una lista de esper
 a por si se produjeran bajas entre los que estén apuntados o consiguiéra
 mos alguna habitación más. Dada la limitación de habitaciones\, parece
  adecuado ofrecer esta actividad exclusivamente a socios de Peñalara. De 
 quedar habitaciones sin ocupar en la fecha límite de inscripción\, se ab
 rirá a acompañantes no socios.\n\nFECHAS: Días 1 al 10 de enero\, segú
 n elección de los participantes en la actividad. En esta ocasión\, por s
 er lectivos para los escolares los días 7 y 8 de enero\, hemos pactado co
 n el hotel que los que utilicen la misma habitación pueden elegir su inco
 rporación y salida entre la cena del jueves 1 de enero y el desayuno del 
 sábado 10 de enero\, con la única condición de que deben comunicar en e
 l momento de la inscripción los días que elijan\, a fin de preparar una 
 relación que se enviará al hotel para su buena organización.\n\nNÚMERO
  DE PLAZAS: las que quepan en las 16 habitaciones reservadas\, con una oc
 upación desde una sola persona por habitación\, hasta cinco por habitaci
 ón.\n\n\n\nLUGAR DE LA ACTIVIDAD: Estación de Esquí de Espot\, Pirineo 
 de Lérida.\n\nALOJAMIENTO: Hotel Or Blanc\, a pie de pistas de la Estaci
 ón de Esquí de Espot (Lérida)\, en régimen de PENSIÓN COMPLETA. Posib
 ilidad de bolsa de picnic para quienes deseen hacer alguna excursión de d
 ía completo y no coman en el hotel.\n\nDESPLAZAMIENTO: En vehículos part
 iculares.\n\nINSCRIPCIÓN  Y PAGO: Se habilitará la inscripción en el f
 ormulario una vez salga publicada esta convocatoria en el boletín informa
 tivo quincenal\, hasta el 25/11/2025  o cuando se completen las plazas.\n
 \nHay que abonar la cantidad de 15 euros por persona en concepto de gesti
 ón.\n\nEl pago por la estancia y de los forfaits se deberán hacer en el 
 propio hotel. \n\nPRECIO DE LA ACTIVIDAD. - Habitación individual 69 e
 uros/noche\; habitación doble 110 euros/noche\; habitación triple 160 e
 uros /noche\; cuádruple 209 euros/noche y quíntuple 259 euros/noche\, a 
 lo que habrá que sumar la cena del día de llegada y el desayuno del día
  de regreso\, caso de utilizarse esta opción.\n\nPRECIOS DEL FORFAIT PARA
  GRUPO DE 20 PERSONAS O MÁS: del día 2 al 6 (temporada alta) 28.70 euros
  persona y día\; del 7 al 10 (temporada baja) 22.80 euros persona y día.
  Los interesados en la adquisición de forfaits deben manifestarlo en el m
 omento de la inscripción\, indicando los días concretos. Desde la Secret
 aría de Peñalara se facilitará una lista al hotel para que tengan prepa
 rados los forfaits a la llegada de los participantes.\n\nEL PRECIO INCLUYE
 : Alojamiento en el Hotel Or Blabc en régimen de PENSIÓN COMPLETA.\n\nE
 L PRECIO NO INCLUYE: Viaje\, alquiler de equipo de esquí\, clases de esq
 uí\, forfait\, seguros\, bebidas no incluidas en el menú.\n\nMATERIAL OB
 LIGATORIO / RECOMENDADO: El habitual en las actividades de esquí de monta
 ña y de pista. El hotel dispone de un servicio de alquiler de esquís de
  alpino muy cómodo y accesible.\n\nNIVEL FÍSICO / TÉCNICO EXIGIDO. - Me
 dio\, para poder disfrutar de la actividad varios días seguidos y evitar 
 lesiones.\n\n\n\nORGANIZADOR. - Carlos Muñoz-Repiso\, tfno. 620.24.06.99.
  Coordinador del grupo desde la llegada a Espot\, José Ignacio Sarasúa t
 fno. 647.50.50.41\n\nGRUPO DE WHATSAPP. - Se creará un grupo de WhatsApp
  formado por las personas que se hayan inscrito. En caso de no querer ser 
 añadido al mismo\, se debe comunicar al hacer la inscripción. Este grup
 o tiene como finalidad exclusiva mejorar la comunicación entre los partic
 ipantes\, así como facilitar el intercambio de información y fotos/víde
 os entre sus componentes.\n\nTIPO DE ACTIVIDAD: Fija y única\n\n&nbsp\;\n
 \nTodos los participantes formarán un grupo único coordinado por el Orga
 nizador de la actividad\, y se comprometen a seguir sus instrucciones. Ant
 e el incumplimiento de algún participante\, el Organizador podrá excluir
 le del grupo y del apoyo de éste\, y posteriormente dar conocimiento del 
 hecho a la Sociedad Ningún participante iniciará la actividad hasta que 
 el Organizador lo indique. Todos ellos seguirán sus instrucciones y no re
 alizarán recorridos no previstos sin el permiso de éste. Cualquier parti
 cipante que observe alguna situación anómala o de riesgo\, deberá comun
 icarla al Organizador. Igualmente pondrá en su conocimiento el mal estado
  de salud o problema físico de algún miembro del grupo. Por motivos de s
 eguridad\, no podrán participar en la actividad las personas no inscritas
  y admitidas por la RSEA Peñalara como asistentes.\n\nEsta actividad se r
 ealiza entre participantes en igualdad\, ya que no se trata de una activid
 ad tutelada ni formativa.\n\nSEGURO DE ACCIDENTES: Es obligatorio que tod
 os los participantes tengan un seguro que cubra los riesgos de esta activi
 dad. En caso de que alguno no dispusiera de él deberá contratar al reali
 zar la inscripción\, el seguro diario de accidentes que ofrece la Socieda
 d.\n\nDECLARACIÓN RESPONSABLE: Todos los participantes deberán haber cum
 plimentado y firmado la DECLARACIÓN RESPONSABLE DE EXENCIÓN DE RESPONSAB
 ILIDADES. Si no la hubieran cumplimentado al hacer la inscripción\, para 
 poder tomar parte en la actividad\, antes de la salida\, entregarán al O
 rganizador una copia de su declaración anual o cumplimentarán una espec
 ífica para esta actividad.  Modelo responsabilidad.pdf\n\nLos menores de
 berán ir acompañados de padres o tutores que se responsabilicen de ellos
  durante toda la actividad.\n\nAPLAZAMIENTOS\, SUSPENSIONES Y DEVOLUCIONES
 :\n\nEn caso de no participación en la actividad\, siempre que se haya co
 municado esta circunstancia con antelación\, se devolverá el importe abo
 nado\, descontando los gastos que se hubieran originado y el 5% de gastos 
 de gestión.\n\nSi se produjera una suspensión de la actividad\, esta ten
 drá su efecto siempre que no se haya hecho uso de alguno de los servicios
  ofrecidos en la convocatoria. En este caso se devolverá a los inscritos 
 el importe abonado\, descontando los gastos que se hubieran originado.\n\n
 En caso de aplazamiento\, se mantendrán los pagos e inscripciones de los 
 que así lo manifiesten para la futura celebración. A los inscritos que n
 o quisieran mantener la inscripción se les devolverá el importe de la in
 scripción descontando los gastos que se hubieran originado.\n\nTodas las 
 devoluciones se realizarán entre los 15 y 30 días posteriores a la fecha
  prevista de celebración.\n\nGUÍA PARA LA RESERVA ON-LINE :\n\n1. Cuand
 o se abra la convocatoria encontrarás un botón para “Reservar” de co
 lor azul. Pincha en dicho botón\, selecciona el número de participantes
  con sus respectivas opciones y añade tu selección al carrito.\n\n2. C
 ontinua con tu reserva pinchando en ver carrito.\n\n3. Confirma que las 
 plazas seleccionas y el coste son correctos y Finaliza Compra.\n\n4. Añad
 e tus datos de reserva y los datos de todos los participantes. Recuerda ch
 equear la política de cancelación y devoluciones y asegúrate que tanto 
 tú como el resto de los participantes nos hagan llegar el documento de De
 claración de Exención de Responsabilidad y marca con un check tu comprom
 iso de recordárselo.\n\n5. Por último\, acepta los términos y Finaliza
  el Pedido para continuar con el pago.\n\n6. El siguiente paso es introdu
 cir los datos de la tarjeta bancaria en la pasarela de pago de Redsys.\n\n
 7. Aparecerá la confirmación de pago en la pantalla de Redsys.\n\n8. A
 utomáticamente recibirás un mail confirmando tu plaza.\n\nCualquier duda
 \, recuerda que puedes resolverla llamando a la Secretaría de Peñalara\,
  tfno 915 22 87 43\, en horario de atención al socio: de lunes a viernes 
 de 10:00 a 14:00 y por las tardes lunes\, martes y miércoles de 15:00 a 1
 9:00 y los jueves de 17:00 a 20:00.
ATTACH;FMTTYPE=image/jpeg:https://www.rseapenalara.org/wp-content/uploads/
 2023/12/IMG-20230120-WA0039.jpg
CATEGORIES:ESQUI ALPINO,ESQUI DE MONTAÑA
END:VEVENT
BEGIN:VTIMEZONE
TZID:Europe/Madrid
X-LIC-LOCATION:Europe/Madrid
BEGIN:STANDARD
DTSTART:20251026T020000
TZOFFSETFROM:+0200
TZOFFSETTO:+0100
TZNAME:CET
END:STANDARD
END:VTIMEZONE
END:VCALENDAR